BEGIN:VCALENDAR
VERSION:2.0
PRODID:-//WorkSource Seattle-King County - ECPv6.6.4.2//NONSGML v1.0//EN
CALSCALE:GREGORIAN
METHOD:PUBLISH
X-WR-CALNAME:WorkSource Seattle-King County
X-ORIGINAL-URL:https://worksourceskc.org
X-WR-CALDESC:Events for WorkSource Seattle-King County
REFRESH-INTERVAL;VALUE=DURATION:PT1H
X-Robots-Tag:noindex
X-PUBLISHED-TTL:PT1H
BEGIN:VTIMEZONE
TZID:America/Los_Angeles
BEGIN:DAYLIGHT
TZOFFSETFROM:-0800
TZOFFSETTO:-0700
TZNAME:PDT
DTSTART:20260308T100000
END:DAYLIGHT
BEGIN:STANDARD
TZOFFSETFROM:-0700
TZOFFSETTO:-0800
TZNAME:PST
DTSTART:20261101T090000
END:STANDARD
END:VTIMEZONE
BEGIN:VEVENT
DTSTART;TZID=America/Los_Angeles:20260227T130000
DTEND;TZID=America/Los_Angeles:20260228T170000
DTSTAMP:20260422T175726
CREATED:20260203T155406Z
LAST-MODIFIED:20260203T155406Z
UID:10019717-1772197200-1772298000@worksourceskc.org
SUMMARY:In Person UI Assistance
DESCRIPTION:
URL:https://worksourceskc.org/event/in-person-ui-assistance-397/
CATEGORIES:WorkSource Rainier
END:VEVENT
BEGIN:VEVENT
DTSTART;TZID=America/Los_Angeles:20260227T130000
DTEND;TZID=America/Los_Angeles:20260228T170000
DTSTAMP:20260422T175726
CREATED:20260203T155557Z
LAST-MODIFIED:20260203T155557Z
UID:10019744-1772197200-1772298000@worksourceskc.org
SUMMARY:In Person UI Assistance
DESCRIPTION:
URL:https://worksourceskc.org/event/in-person-ui-assistance-400/
CATEGORIES:WorkSource Rainier
END:VEVENT
BEGIN:VEVENT
DTSTART;TZID=America/Los_Angeles:20260227T130000
DTEND;TZID=America/Los_Angeles:20260228T170000
DTSTAMP:20260422T175726
CREATED:20260203T155625Z
LAST-MODIFIED:20260210T045308Z
UID:10019755-1772197200-1772298000@worksourceskc.org
SUMMARY:In Person UI Assistance
DESCRIPTION:
URL:https://worksourceskc.org/event/in-person-ui-assistance-403/
CATEGORIES:WorkSource Rainier
END:VEVENT
BEGIN:VEVENT
DTSTART;TZID=America/Los_Angeles:20260227T130000
DTEND;TZID=America/Los_Angeles:20260228T170000
DTSTAMP:20260422T175726
CREATED:20260203T155654Z
LAST-MODIFIED:20260227T233526Z
UID:10019766-1772197200-1772298000@worksourceskc.org
SUMMARY:In Person UI Assistance
DESCRIPTION:
URL:https://worksourceskc.org/event/in-person-ui-assistance-406/
CATEGORIES:WorkSource Rainier
END:VEVENT
BEGIN:VEVENT
DTSTART;TZID=America/Los_Angeles:20260228T000000
DTEND;TZID=America/Los_Angeles:20260301T000000
DTSTAMP:20260422T175726
CREATED:20260130T024305Z
LAST-MODIFIED:20260228T223732Z
UID:10019546-1772236800-1772323200@worksourceskc.org
SUMMARY:Overcoming Ageism
DESCRIPTION:📌 OverviewOvercoming Ageism is a self-paced workshop series designed to help experienced job seekers navigate bias\, reframe their strengths\, and show up with confidence in today’s hiring landscape. Through a blend of storytelling\, humor\, and practical strategy\, participants learn how to position age as a strategic advantage—not a liability. The module includes both full-length sessions and shorter\, focused videos featuring Alan and Ada—AI voices crafted to guide learners through resume reframes\, interview prep\, and mindset shifts.💼 What You’ll LearnHow to identify and counter common age-related stereotypes in hiringResume and interview strategies that highlight relevance and valueTechniques for reframing experience as a strength\, not a costHow to use AI tools to support—not replace—your job searchWays to build a personal brand that reflects energy\, adaptability\, and impact🧭 Who It’s ForThis module is designed for experienced job seekers\, especially those re-entering the workforce\, pivoting careers\, or facing age-related bias in hiring. It’s also a powerful resource for workforce professionals\, career coaches\, and anyone interested in reframing age as an asset.🚀 Getting StartedTo register\, click here: https://forms.spokaneworkforce.org/233415886991066. Registration may take up to 3 business days. Once processed\, you’ll receive login details and instructions via email. Modules are mobile-friendly\, free to access\, and available on your schedule.
URL:https://worksourceskc.org/event/overcoming-ageism-2081/
CATEGORIES:Virtual Online Events
END:VEVENT
END:VCALENDAR