BEGIN:VCALENDAR
VERSION:2.0
PRODID:-//WorkSource Seattle-King County - ECPv6.6.4.2//NONSGML v1.0//EN
CALSCALE:GREGORIAN
METHOD:PUBLISH
X-ORIGINAL-URL:https://worksourceskc.org
X-WR-CALDESC:Events for WorkSource Seattle-King County
REFRESH-INTERVAL;VALUE=DURATION:PT1H
X-Robots-Tag:noindex
X-PUBLISHED-TTL:PT1H
BEGIN:VTIMEZONE
TZID:America/Los_Angeles
BEGIN:DAYLIGHT
TZOFFSETFROM:-0800
TZOFFSETTO:-0700
TZNAME:PDT
DTSTART:20260308T100000
END:DAYLIGHT
BEGIN:STANDARD
TZOFFSETFROM:-0700
TZOFFSETTO:-0800
TZNAME:PST
DTSTART:20261101T090000
END:STANDARD
END:VTIMEZONE
BEGIN:VEVENT
DTSTART;TZID=America/Los_Angeles:20260309T083000
DTEND;TZID=America/Los_Angeles:20260312T113000
DTSTAMP:20260422T031023
CREATED:20260208T142645Z
LAST-MODIFIED:20260309T235416Z
UID:10019977-1773045000-1773315000@worksourceskc.org
SUMMARY:ONLINE Strategies for Success: Work Concepts I (Auburn)
DESCRIPTION:Class times: 8:30-11:30 (4-day class) \nWork concepts I – Every good plan needs a great road map – develop yours here! \n\nDevelop a roadmap to success while discussing self-motivation\, exploring careers and learning what employers really want	\nLearn how to prepare and apply for jobs\, package yourself like a professional and share your story	\nUnderstand what employers mean when they say customer service\, workplace diversity\, team building and professionalism
URL:https://worksourceskc.org/event/online-strategies-for-success-work-concepts-i-auburn-860/
CATEGORIES:WorkSource Auburn
END:VEVENT
BEGIN:VEVENT
DTSTART;TZID=America/Los_Angeles:20260309T083000
DTEND;TZID=America/Los_Angeles:20260312T113000
DTSTAMP:20260422T031023
CREATED:20260208T142652Z
LAST-MODIFIED:20260208T142652Z
UID:10019979-1773045000-1773315000@worksourceskc.org
SUMMARY:ONLINE Strategies for Success: Work Concepts I (N. Seattle)
DESCRIPTION:Class times: 8:30AM-11:30AM (4-day class) \nModule 1: Work concepts I – Every good plan needs a great road map – develop yours here! \n\nDevelop a roadmap to success while discussing self-motivation\, exploring careers and learning what employers really want.	\nLearn how to prepare and apply for jobs\, package yourself like a professional and share your story	\nUnderstand what employers mean when they say customer service\, workplace diversity\, team building and professionalism.
URL:https://worksourceskc.org/event/online-strategies-for-success-work-concepts-i-n-seattle-734/
CATEGORIES:North Seattle
END:VEVENT
BEGIN:VEVENT
DTSTART;TZID=America/Los_Angeles:20260309T083000
DTEND;TZID=America/Los_Angeles:20260312T113000
DTSTAMP:20260422T031023
CREATED:20260208T142749Z
LAST-MODIFIED:20260208T142749Z
UID:10019991-1773045000-1773315000@worksourceskc.org
SUMMARY:ONLINE Strategies for Success: Work Concepts I (N. Seattle)
DESCRIPTION:Class times: 8:30AM-11:30AM (4-day class) \nModule 1: Work concepts I – Every good plan needs a great road map – develop yours here! \n\nDevelop a roadmap to success while discussing self-motivation\, exploring careers and learning what employers really want.	\nLearn how to prepare and apply for jobs\, package yourself like a professional and share your story	\nUnderstand what employers mean when they say customer service\, workplace diversity\, team building and professionalism.
URL:https://worksourceskc.org/event/online-strategies-for-success-work-concepts-i-n-seattle-735/
CATEGORIES:Virtual Online Events
END:VEVENT
BEGIN:VEVENT
DTSTART;TZID=America/Los_Angeles:20260309T083000
DTEND;TZID=America/Los_Angeles:20260312T113000
DTSTAMP:20260422T031023
CREATED:20260208T142816Z
LAST-MODIFIED:20260309T235521Z
UID:10020004-1773045000-1773315000@worksourceskc.org
SUMMARY:ONLINE Strategies for Success: Work Concepts I (N. Seattle)
DESCRIPTION:Class times: 8:30AM-11:30AM (4-day class) \nModule 1: Work concepts I – Every good plan needs a great road map – develop yours here! \n\nDevelop a roadmap to success while discussing self-motivation\, exploring careers and learning what employers really want.	\nLearn how to prepare and apply for jobs\, package yourself like a professional and share your story	\nUnderstand what employers mean when they say customer service\, workplace diversity\, team building and professionalism.
URL:https://worksourceskc.org/event/online-strategies-for-success-work-concepts-i-n-seattle-736/
CATEGORIES:Virtual Online Events
END:VEVENT
BEGIN:VEVENT
DTSTART;TZID=America/Los_Angeles:20260309T090000
DTEND;TZID=America/Los_Angeles:20260312T120000
DTSTAMP:20260422T031023
CREATED:20260208T142658Z
LAST-MODIFIED:20260208T142658Z
UID:10019980-1773046800-1773316800@worksourceskc.org
SUMMARY:Strategies for Success: Work Concepts I (Rainier)
DESCRIPTION:Work concepts I – Every good plan needs a great road map – develop yours here! \n\nDevelop a roadmap to success while discussing self-motivation\, exploring careers and learning what employers really want	\nLearn how to prepare and apply for jobs\, package yourself like a professional and share your story	\nUnderstand what employers mean when they say customer service\, workplace diversity\, team building and professionalism
URL:https://worksourceskc.org/event/strategies-for-success-work-concepts-i-rainier-461/
CATEGORIES:WorkSource Rainier
END:VEVENT
BEGIN:VEVENT
DTSTART;TZID=America/Los_Angeles:20260309T090000
DTEND;TZID=America/Los_Angeles:20260312T120000
DTSTAMP:20260422T031023
CREATED:20260208T142751Z
LAST-MODIFIED:20260208T142751Z
UID:10019992-1773046800-1773316800@worksourceskc.org
SUMMARY:Strategies for Success: Work Concepts I (Rainier)
DESCRIPTION:Work concepts I – Every good plan needs a great road map – develop yours here! \n\nDevelop a roadmap to success while discussing self-motivation\, exploring careers and learning what employers really want	\nLearn how to prepare and apply for jobs\, package yourself like a professional and share your story	\nUnderstand what employers mean when they say customer service\, workplace diversity\, team building and professionalism
URL:https://worksourceskc.org/event/strategies-for-success-work-concepts-i-rainier-462/
CATEGORIES:Virtual Online Events
END:VEVENT
BEGIN:VEVENT
DTSTART;TZID=America/Los_Angeles:20260309T090000
DTEND;TZID=America/Los_Angeles:20260312T120000
DTSTAMP:20260422T031023
CREATED:20260208T142752Z
LAST-MODIFIED:20260309T235524Z
UID:10019993-1773046800-1773316800@worksourceskc.org
SUMMARY:Online Strategies for Success: Personal Strength Builders (Okanogan)
DESCRIPTION:Personal strength builders – What makes you shine? Explore the skills it takes for work-place success (and grow the ones you already have)! \n\nLearn how to improve your attitude\, find motivation\, overcome fears\, plan for success\, improve your situation and create great time management skills	\nExplore how to project self-worth\, integrity\, flexibility and adaptability	\nGet hold of your finances by forming good spending habits\, getting rid of bad behaviors and become financially literate
URL:https://worksourceskc.org/event/online-strategies-for-success-personal-strength-builders-okanogan-169/
CATEGORIES:Virtual Online Events
END:VEVENT
BEGIN:VEVENT
DTSTART;TZID=America/Los_Angeles:20260309T090000
DTEND;TZID=America/Los_Angeles:20260312T120000
DTSTAMP:20260422T031023
CREATED:20260208T142753Z
LAST-MODIFIED:20260309T235526Z
UID:10019995-1773046800-1773316800@worksourceskc.org
SUMMARY:ONLINE Strategies for Success: Work Concepts I Central Basin (Moses Lake)
DESCRIPTION:Work concepts I – Every good plan needs a great road map – develop yours here! \n\nDevelop a roadmap to success while discussing self-motivation\, exploring careers and learning what employers really want	\nLearn how to prepare and apply for jobs\, package yourself like a professional and share your story	\nUnderstand what employers mean when they say customer service\, workplace diversity\, team building and professionalism
URL:https://worksourceskc.org/event/online-strategies-for-success-work-concepts-i-central-basin-moses-lake-137/
CATEGORIES:Virtual Online Events
END:VEVENT
BEGIN:VEVENT
DTSTART;TZID=America/Los_Angeles:20260309T090000
DTEND;TZID=America/Los_Angeles:20260312T120000
DTSTAMP:20260422T031023
CREATED:20260208T142753Z
LAST-MODIFIED:20260309T235525Z
UID:10019994-1773046800-1773316800@worksourceskc.org
SUMMARY:Online: Strategies for Success: Work Concepts I (Wenatchee)
DESCRIPTION:Work concepts I – Every good plan needs a great road map – develop yours here! \n\nDevelop a roadmap to success while discussing self-motivation\, exploring careers and learning what employers really want	\nLearn how to prepare and apply for jobs\, package yourself like a professional and share your story	\nUnderstand what employers mean when they say customer service\, workplace diversity\, team building and professionalism
URL:https://worksourceskc.org/event/online-strategies-for-success-work-concepts-i-wenatchee-241/
CATEGORIES:Virtual Online Events
END:VEVENT
BEGIN:VEVENT
DTSTART;TZID=America/Los_Angeles:20260309T090000
DTEND;TZID=America/Los_Angeles:20260312T120000
DTSTAMP:20260422T031023
CREATED:20260208T142754Z
LAST-MODIFIED:20260309T235526Z
UID:10019996-1773046800-1773316800@worksourceskc.org
SUMMARY:(Spanish SFS) EN LINEA Estrategias para el Éxito: Modulo 4 Construcción del Fortalezas Personales – en todo el estado
DESCRIPTION:
URL:https://worksourceskc.org/event/spanish-sfs-en-linea-estrategias-para-el-xito-modulo-4-construccin-del-fortalezas-personales-en-todo-el-estado-165/
CATEGORIES:Virtual Online Events
END:VEVENT
BEGIN:VEVENT
DTSTART;TZID=America/Los_Angeles:20260309T090000
DTEND;TZID=America/Los_Angeles:20260312T120000
DTSTAMP:20260422T031023
CREATED:20260208T142755Z
LAST-MODIFIED:20260226T235637Z
UID:10019997-1773046800-1773316800@worksourceskc.org
SUMMARY:ONLINE Strategies for Success: Work Concepts I (Colville)
DESCRIPTION:Work concepts I – Every good plan needs a great road map – develop yours here! \n\nDevelop a roadmap to success while discussing self-motivation\, exploring careers and learning what employers really want	\nLearn how to prepare and apply for jobs\, package yourself like a professional and share your story	\nUnderstand what employers mean when they say customer service\, workplace diversity\, team building and professionalism
URL:https://worksourceskc.org/event/online-strategies-for-success-work-concepts-i-colville-117/
CATEGORIES:Virtual Online Events
END:VEVENT
BEGIN:VEVENT
DTSTART;TZID=America/Los_Angeles:20260309T090000
DTEND;TZID=America/Los_Angeles:20260312T120000
DTSTAMP:20260422T031023
CREATED:20260208T142817Z
LAST-MODIFIED:20260306T014924Z
UID:10020005-1773046800-1773316800@worksourceskc.org
SUMMARY:Strategies for Success: Work Concepts I (Rainier)
DESCRIPTION:Work concepts I – Every good plan needs a great road map – develop yours here! \n\nDevelop a roadmap to success while discussing self-motivation\, exploring careers and learning what employers really want	\nLearn how to prepare and apply for jobs\, package yourself like a professional and share your story	\nUnderstand what employers mean when they say customer service\, workplace diversity\, team building and professionalism
URL:https://worksourceskc.org/event/strategies-for-success-work-concepts-i-rainier-463/
CATEGORIES:WorkSource Rainier
END:VEVENT
BEGIN:VEVENT
DTSTART;TZID=America/Los_Angeles:20260309T090000
DTEND;TZID=America/Los_Angeles:20260312T120000
DTSTAMP:20260422T031023
CREATED:20260208T142830Z
LAST-MODIFIED:20260309T235523Z
UID:10020010-1773046800-1773316800@worksourceskc.org
SUMMARY:Strategies for Success: Work Concepts I (Rainier)
DESCRIPTION:Work concepts I – Every good plan needs a great road map – develop yours here! \n\nDevelop a roadmap to success while discussing self-motivation\, exploring careers and learning what employers really want	\nLearn how to prepare and apply for jobs\, package yourself like a professional and share your story	\nUnderstand what employers mean when they say customer service\, workplace diversity\, team building and professionalism
URL:https://worksourceskc.org/event/strategies-for-success-work-concepts-i-rainier-464/
CATEGORIES:Virtual Online Events
END:VEVENT
BEGIN:VEVENT
DTSTART;TZID=America/Los_Angeles:20260309T090000
DTEND;TZID=America/Los_Angeles:20260312T120000
DTSTAMP:20260422T031023
CREATED:20260302T065009Z
LAST-MODIFIED:20260309T235522Z
UID:10020625-1773046800-1773316800@worksourceskc.org
SUMMARY:ONLINE Strategies for Success: Personal Strength Builders (Colville)
DESCRIPTION:Personal strength builders – What makes you shine? Explore the skills it takes for work-place success (and grow the ones you already have)! \n\nLearn how to improve your attitude\, find motivation\, overcome fears\, plan for success\, improve your situation and create great time management skills	\nExplore how to project self-worth\, integrity\, flexibility and adaptability	\nGet hold of your finances by forming good spending habits\, getting rid of bad behaviors and become financially literate
URL:https://worksourceskc.org/event/online-strategies-for-success-personal-strength-builders-colville-159/
CATEGORIES:Virtual Online Events
END:VEVENT
BEGIN:VEVENT
DTSTART;TZID=America/Los_Angeles:20260309T130000
DTEND;TZID=America/Los_Angeles:20260312T160000
DTSTAMP:20260422T031023
CREATED:20260224T190756Z
LAST-MODIFIED:20260224T190756Z
UID:10020515-1773061200-1773331200@worksourceskc.org
SUMMARY:ONLINE Strategies for Success: Work Concepts I (Island)
DESCRIPTION:Work concepts I – Every good plan needs a great road map – develop yours here! \n\nDevelop a roadmap to success while discussing self-motivation\, exploring careers and learning what employers really want	\nLearn how to prepare and apply for jobs\, package yourself like a professional and share your story	\nUnderstand what employers mean when they say customer service\, workplace diversity\, team building and professionalism
URL:https://worksourceskc.org/event/online-strategies-for-success-work-concepts-i-island-208/
CATEGORIES:Virtual Online Events
END:VEVENT
BEGIN:VEVENT
DTSTART;TZID=America/Los_Angeles:20260309T130000
DTEND;TZID=America/Los_Angeles:20260312T160000
DTSTAMP:20260422T031023
CREATED:20260224T190757Z
LAST-MODIFIED:20260309T235542Z
UID:10020514-1773061200-1773331200@worksourceskc.org
SUMMARY:ONLINE Strategies for Success: Work Concepts I (Island)
DESCRIPTION:Work concepts I – Every good plan needs a great road map – develop yours here! \n\nDevelop a roadmap to success while discussing self-motivation\, exploring careers and learning what employers really want	\nLearn how to prepare and apply for jobs\, package yourself like a professional and share your story	\nUnderstand what employers mean when they say customer service\, workplace diversity\, team building and professionalism
URL:https://worksourceskc.org/event/online-strategies-for-success-work-concepts-i-island-209/
CATEGORIES:Virtual Online Events
END:VEVENT
BEGIN:VEVENT
DTSTART;TZID=America/Los_Angeles:20260311T000000
DTEND;TZID=America/Los_Angeles:20260312T000000
DTSTAMP:20260422T031023
CREATED:20260210T113231Z
LAST-MODIFIED:20260311T223804Z
UID:10020054-1773187200-1773273600@worksourceskc.org
SUMMARY:Overcoming Ageism
DESCRIPTION:📌 OverviewOvercoming Ageism is a self-paced workshop series designed to help experienced job seekers navigate bias\, reframe their strengths\, and show up with confidence in today’s hiring landscape. Through a blend of storytelling\, humor\, and practical strategy\, participants learn how to position age as a strategic advantage—not a liability. The module includes both full-length sessions and shorter\, focused videos featuring Alan and Ada—AI voices crafted to guide learners through resume reframes\, interview prep\, and mindset shifts.💼 What You’ll LearnHow to identify and counter common age-related stereotypes in hiringResume and interview strategies that highlight relevance and valueTechniques for reframing experience as a strength\, not a costHow to use AI tools to support—not replace—your job searchWays to build a personal brand that reflects energy\, adaptability\, and impact🧭 Who It’s ForThis module is designed for experienced job seekers\, especially those re-entering the workforce\, pivoting careers\, or facing age-related bias in hiring. It’s also a powerful resource for workforce professionals\, career coaches\, and anyone interested in reframing age as an asset.🚀 Getting StartedTo register\, click here: https://forms.spokaneworkforce.org/233415886991066. Registration may take up to 3 business days. Once processed\, you’ll receive login details and instructions via email. Modules are mobile-friendly\, free to access\, and available on your schedule.
URL:https://worksourceskc.org/event/overcoming-ageism-2269/
CATEGORIES:Virtual Online Events
END:VEVENT
BEGIN:VEVENT
DTSTART;TZID=America/Los_Angeles:20260311T090000
DTEND;TZID=America/Los_Angeles:20260311T100000
DTSTAMP:20260422T031023
CREATED:20260210T113124Z
LAST-MODIFIED:20260224T154732Z
UID:10020039-1773219600-1773223200@worksourceskc.org
SUMMARY:Meet the Employer- KWA
DESCRIPTION:Meet with a KWA representative at WorkSource to learn about the industry culture\, employment opportunities and hiring process! \n\nWho they are	\nWhat they do	\nThe kinds of candidates they're looking for	\nHow to apply!!!!\n\nNo registration required.
URL:https://worksourceskc.org/event/meet-the-employer-kwa-12/
CATEGORIES:Hiring Events and Job Fairs
END:VEVENT
BEGIN:VEVENT
DTSTART;TZID=America/Los_Angeles:20260311T100000
DTEND;TZID=America/Los_Angeles:20260311T120000
DTSTAMP:20260422T031023
CREATED:20260210T113111Z
LAST-MODIFIED:20260210T113111Z
UID:10020036-1773223200-1773230400@worksourceskc.org
SUMMARY:HOW TO INTERVIEW POST-INCARCERATION (In-Person)
DESCRIPTION:Interviewing after incarceration can feel overwhelming. You don’t have to do it alone. \nOur workshop will help you prepare\, practice\, and feel confident. \nWorkSource is offering a supportive space to learn interview techniques\, get your questions answered\, and build the skills you need to succeed. \nThis will be fun and informative. Be sure to join us! \n 
URL:https://worksourceskc.org/event/how-to-interview-post-incarceration-in-person-244/
CATEGORIES:North Seattle
END:VEVENT
BEGIN:VEVENT
DTSTART;TZID=America/Los_Angeles:20260311T100000
DTEND;TZID=America/Los_Angeles:20260311T120000
DTSTAMP:20260422T031023
CREATED:20260210T113235Z
LAST-MODIFIED:20260311T183737Z
UID:10020056-1773223200-1773230400@worksourceskc.org
SUMMARY:Bridge to Work- Job Club
DESCRIPTION:Please join us to network with other job seekers and share\, through a group facilitated discussion\, strategies for securing gainful employment. This is a weekly activity that helps job seekers in an ongoing workshop. Once you have registered\, we hope you attend every week. You do not have to register more than once. A virtual link will be provided through email\, to those who sign up.
URL:https://worksourceskc.org/event/bridge-to-work-job-club-1493/
CATEGORIES:Virtual Online Events
END:VEVENT
BEGIN:VEVENT
DTSTART;TZID=America/Los_Angeles:20260311T100000
DTEND;TZID=America/Los_Angeles:20260311T120000
DTSTAMP:20260422T031023
CREATED:20260210T113305Z
LAST-MODIFIED:20260210T113305Z
UID:10020065-1773223200-1773230400@worksourceskc.org
SUMMARY:HOW TO INTERVIEW POST-INCARCERATION (In-Person)
DESCRIPTION:Interviewing after incarceration can feel overwhelming. You don’t have to do it alone. \nOur workshop will help you prepare\, practice\, and feel confident. \nWorkSource is offering a supportive space to learn interview techniques\, get your questions answered\, and build the skills you need to succeed. \nThis will be fun and informative. Be sure to join us! \n 
URL:https://worksourceskc.org/event/how-to-interview-post-incarceration-in-person-245/
CATEGORIES:North Seattle
END:VEVENT
BEGIN:VEVENT
DTSTART;TZID=America/Los_Angeles:20260311T100000
DTEND;TZID=America/Los_Angeles:20260311T120000
DTSTAMP:20260422T031023
CREATED:20260210T113337Z
LAST-MODIFIED:20260306T074959Z
UID:10020070-1773223200-1773230400@worksourceskc.org
SUMMARY:HOW TO INTERVIEW POST-INCARCERATION (In-Person)
DESCRIPTION:Interviewing after incarceration can feel overwhelming. You don’t have to do it alone. \nOur workshop will help you prepare\, practice\, and feel confident. \nWorkSource is offering a supportive space to learn interview techniques\, get your questions answered\, and build the skills you need to succeed. \nThis will be fun and informative. Be sure to join us! \n 
URL:https://worksourceskc.org/event/how-to-interview-post-incarceration-in-person-246/
CATEGORIES:North Seattle
END:VEVENT
BEGIN:VEVENT
DTSTART;TZID=America/Los_Angeles:20260311T100000
DTEND;TZID=America/Los_Angeles:20260311T120000
DTSTAMP:20260422T031023
CREATED:20260210T113359Z
LAST-MODIFIED:20260311T183646Z
UID:10020075-1773223200-1773230400@worksourceskc.org
SUMMARY:HOW TO INTERVIEW POST-INCARCERATION (In-Person)
DESCRIPTION:Interviewing after incarceration can feel overwhelming. You don’t have to do it alone. \nOur workshop will help you prepare\, practice\, and feel confident. \nWorkSource is offering a supportive space to learn interview techniques\, get your questions answered\, and build the skills you need to succeed. \nThis will be fun and informative. Be sure to join us! \n 
URL:https://worksourceskc.org/event/how-to-interview-post-incarceration-in-person-247/
CATEGORIES:North Seattle
END:VEVENT
BEGIN:VEVENT
DTSTART;TZID=America/Los_Angeles:20260311T100000
DTEND;TZID=America/Los_Angeles:20260311T150000
DTSTAMP:20260422T031023
CREATED:20260303T231247Z
LAST-MODIFIED:20260303T231247Z
UID:10020764-1773223200-1773241200@worksourceskc.org
SUMMARY:Washington Army National Guard
DESCRIPTION:This is an opportunity to gain valuable job skills\, earn money for college\, and enjoy the pride and respect that comes with military service—all while living at home. \nWe are currently screening candidates who meet the following initial eligibility criteria: \n\nAge: You must be between the ages of 17 and 42.	\nCitizenship: You must be a U.S. Citizen or a Lawful Permanent Resident.	\nEducation: A high school diploma or GED is required.	\nMedical Fitness: You must be in good health. We will review any medical history or current prescription medications to ensure you meet Army standards.	\nMoral Character: You must meet the Army's moral standards. A history of drug use or criminal convictions will be reviewed on a case-by-case basis.	\nAppearance: Tattoos will be screened to ensure they comply with Army regulations.	\nCommitment: You must be prepared to leave for approximately four months to attend Basic Combat Training and Advanced Individual Training.\n\nNo prior skills or experience are required. We provide all the training you need to succeed in your chosen military career field. \nIf you meet these initial qualifications and are interested in learning more about the more than 130 career paths available in the Army National Guard\, please contact us to schedule a no-obligation consultation.
URL:https://worksourceskc.org/event/washington-army-national-guard-72/
CATEGORIES:WorkSource Rainier
END:VEVENT
BEGIN:VEVENT
DTSTART;TZID=America/Los_Angeles:20260311T100000
DTEND;TZID=America/Los_Angeles:20260311T150000
DTSTAMP:20260422T031023
CREATED:20260303T231252Z
LAST-MODIFIED:20260311T203937Z
UID:10020766-1773223200-1773241200@worksourceskc.org
SUMMARY:Washington Army National Guard
DESCRIPTION:This is an opportunity to gain valuable job skills\, earn money for college\, and enjoy the pride and respect that comes with military service—all while living at home. \nWe are currently screening candidates who meet the following initial eligibility criteria: \n\nAge: You must be between the ages of 17 and 42.	\nCitizenship: You must be a U.S. Citizen or a Lawful Permanent Resident.	\nEducation: A high school diploma or GED is required.	\nMedical Fitness: You must be in good health. We will review any medical history or current prescription medications to ensure you meet Army standards.	\nMoral Character: You must meet the Army's moral standards. A history of drug use or criminal convictions will be reviewed on a case-by-case basis.	\nAppearance: Tattoos will be screened to ensure they comply with Army regulations.	\nCommitment: You must be prepared to leave for approximately four months to attend Basic Combat Training and Advanced Individual Training.\n\nNo prior skills or experience are required. We provide all the training you need to succeed in your chosen military career field. \nIf you meet these initial qualifications and are interested in learning more about the more than 130 career paths available in the Army National Guard\, please contact us to schedule a no-obligation consultation.
URL:https://worksourceskc.org/event/washington-army-national-guard-73/
CATEGORIES:WorkSource Rainier
END:VEVENT
BEGIN:VEVENT
DTSTART;TZID=America/Los_Angeles:20260311T110000
DTEND;TZID=America/Los_Angeles:20260311T130000
DTSTAMP:20260422T031023
CREATED:20260223T090333Z
LAST-MODIFIED:20260304T193749Z
UID:10020386-1773226800-1773234000@worksourceskc.org
SUMMARY:CANCELLED - *(In-Person)* WorkFirst Job Search Orientation (Requires DSHS Referral)
DESCRIPTION:IMPORTANT! Registration for this appointment requires a referral from the Department of Social and Health Services. If you are currently not a DSHS customer and would like to meet with a career coach or learn more about our WorkSource services\, please contact us at 509-532-3120.
URL:https://worksourceskc.org/event/in-person-workfirst-job-search-orientation-requires-dshs-referral-3689/
CATEGORIES:Virtual Online Events
END:VEVENT
BEGIN:VEVENT
DTSTART;TZID=America/Los_Angeles:20260311T110000
DTEND;TZID=America/Los_Angeles:20260311T130000
DTSTAMP:20260422T031023
CREATED:20260224T082120Z
LAST-MODIFIED:20260311T183739Z
UID:10020391-1773226800-1773234000@worksourceskc.org
SUMMARY:Work Smart Program – The Art of Negotiating a More Advantageous Compensation Package
DESCRIPTION:Learning to negotiate a compensation package is the key in getting what you deserve from employers. This workshop will empower participants with the confidence they need to be successful in negotiating compensation. Learn various tools and skills to demonstrate your value and put your best foot forward in negotiations.
URL:https://worksourceskc.org/event/work-smart-program-the-art-of-negotiating-a-more-advantageous-compensation-package-1450/
CATEGORIES:Virtual Online Events
END:VEVENT
BEGIN:VEVENT
DTSTART;TZID=America/Los_Angeles:20260311T133000
DTEND;TZID=America/Los_Angeles:20260311T143000
DTSTAMP:20260422T031023
CREATED:20260210T113244Z
LAST-MODIFIED:20260311T203824Z
UID:10020059-1773235800-1773239400@worksourceskc.org
SUMMARY:Snohomish County WIOA (Workforce Innovation Opportunity Act) Orientation
DESCRIPTION:During this orientation\, Attendees will learn about the Workforce Innovation Opportunity Act program including how it supports jobseekers\, basic eligibility requirements\, and how to enroll. \nPre-registration is required for those attending online: us06web.zoom.us…
URL:https://worksourceskc.org/event/snohomish-county-wioa-workforce-innovation-opportunity-act-orientation-963/
CATEGORIES:Virtual Online Events
END:VEVENT
BEGIN:VEVENT
DTSTART;TZID=America/Los_Angeles:20260311T133000
DTEND;TZID=America/Los_Angeles:20260311T153000
DTSTAMP:20260422T031023
CREATED:20260210T113057Z
LAST-MODIFIED:20260210T113057Z
UID:10020033-1773235800-1773243000@worksourceskc.org
SUMMARY:Skills and Abilities
DESCRIPTION:Today’s economy requires workers who can transfer skills from one work setting to another and who have the kinds of personal qualities that make organizations successful. In this workshop\, you will learn to identify\, demonstrate\, and package\, with confidence\, your skills and personal qualities in ways that will be meaningful to employers. You also will learn oral communication skills and be able to practice delivering a brief\, high-impact presentation to potential employers – A 60 second commercial!
URL:https://worksourceskc.org/event/skills-and-abilities-799/
CATEGORIES:WorkSource Auburn
END:VEVENT
BEGIN:VEVENT
DTSTART;TZID=America/Los_Angeles:20260311T133000
DTEND;TZID=America/Los_Angeles:20260311T153000
DTSTAMP:20260422T031023
CREATED:20260210T113306Z
LAST-MODIFIED:20260305T234848Z
UID:10020066-1773235800-1773243000@worksourceskc.org
SUMMARY:Skills and Abilities
DESCRIPTION:Today’s economy requires workers who can transfer skills from one work setting to another and who have the kinds of personal qualities that make organizations successful. In this workshop\, you will learn to identify\, demonstrate\, and package\, with confidence\, your skills and personal qualities in ways that will be meaningful to employers. You also will learn oral communication skills and be able to practice delivering a brief\, high-impact presentation to potential employers – A 60 second commercial!
URL:https://worksourceskc.org/event/skills-and-abilities-800/
CATEGORIES:WorkSource Auburn
END:VEVENT
END:VCALENDAR