BEGIN:VCALENDAR
VERSION:2.0
PRODID:-//WorkSource Seattle-King County - ECPv6.6.4.2//NONSGML v1.0//EN
CALSCALE:GREGORIAN
METHOD:PUBLISH
X-ORIGINAL-URL:https://worksourceskc.org
X-WR-CALDESC:Events for WorkSource Seattle-King County
REFRESH-INTERVAL;VALUE=DURATION:PT1H
X-Robots-Tag:noindex
X-PUBLISHED-TTL:PT1H
BEGIN:VTIMEZONE
TZID:America/Los_Angeles
BEGIN:DAYLIGHT
TZOFFSETFROM:-0800
TZOFFSETTO:-0700
TZNAME:PDT
DTSTART:20260308T100000
END:DAYLIGHT
BEGIN:STANDARD
TZOFFSETFROM:-0700
TZOFFSETTO:-0800
TZNAME:PST
DTSTART:20261101T090000
END:STANDARD
END:VTIMEZONE
BEGIN:VEVENT
DTSTART;TZID=America/Los_Angeles:20260316T083000
DTEND;TZID=America/Los_Angeles:20260319T113000
DTSTAMP:20260421T193452
CREATED:20260217T023151Z
LAST-MODIFIED:20260217T023151Z
UID:10020176-1773649800-1773919800@worksourceskc.org
SUMMARY:ONLINE Strategies for Success: Health & Well-Being (N. Seattle)
DESCRIPTION:Class times: 8:30AM-11:30AM (4-day class) \nModule 2: Health and well-being – What is ‘work-life’ balance? How do I take care of me while taking care of everyone else? Come learn with us! \n\nExamine your inner-professional\, core values\, life choices and personal integrity	\nLearn how to be personally and professionally self-aware\, establish boundaries and develop better stress and time management skills	\nEvaluate your social readiness and online footprint	\nLearn to access community resources and expand networking skills	\nImprove your ability to solve problems\, set goals and develop new action planning techniques
URL:https://worksourceskc.org/event/online-strategies-for-success-health-well-being-n-seattle-1088/
CATEGORIES:North Seattle
END:VEVENT
BEGIN:VEVENT
DTSTART;TZID=America/Los_Angeles:20260316T083000
DTEND;TZID=America/Los_Angeles:20260319T113000
DTSTAMP:20260421T193452
CREATED:20260217T023233Z
LAST-MODIFIED:20260316T233624Z
UID:10020185-1773649800-1773919800@worksourceskc.org
SUMMARY:ONLINE Strategies for Success: Health & Well-Being (N. Seattle)
DESCRIPTION:Class times: 8:30AM-11:30AM (4-day class) \nModule 2: Health and well-being – What is ‘work-life’ balance? How do I take care of me while taking care of everyone else? Come learn with us! \n\nExamine your inner-professional\, core values\, life choices and personal integrity	\nLearn how to be personally and professionally self-aware\, establish boundaries and develop better stress and time management skills	\nEvaluate your social readiness and online footprint	\nLearn to access community resources and expand networking skills	\nImprove your ability to solve problems\, set goals and develop new action planning techniques
URL:https://worksourceskc.org/event/online-strategies-for-success-health-well-being-n-seattle-1089/
CATEGORIES:North Seattle
END:VEVENT
BEGIN:VEVENT
DTSTART;TZID=America/Los_Angeles:20260316T083000
DTEND;TZID=America/Los_Angeles:20260319T113000
DTSTAMP:20260421T193452
CREATED:20260312T170508Z
LAST-MODIFIED:20260312T170508Z
UID:10020905-1773649800-1773919800@worksourceskc.org
SUMMARY:ONLINE Strategies for Success: Health & Well-Being (Auburn)
DESCRIPTION:Class times: 8:30-11:30 (4-day class) \nHealth and well-being – What is ‘work-life’ balance? How do I take care of me while taking care of everyone else? Come learn with us! \n\nExamine your inner-professional\, core values\, life choices and personal integrity	\nLearn how to be personally and professionally self-aware\, establish boundaries and develop better stress and time management skills	\nEvaluate your social readiness and online footprint	\nLearn to access community resources and expand networking skills	\nImprove your ability to solve problems\, set goals and develop new action planning techniques
URL:https://worksourceskc.org/event/online-strategies-for-success-health-well-being-auburn-661/
CATEGORIES:WorkSource Auburn
END:VEVENT
BEGIN:VEVENT
DTSTART;TZID=America/Los_Angeles:20260316T083000
DTEND;TZID=America/Los_Angeles:20260319T113000
DTSTAMP:20260421T193452
CREATED:20260312T170720Z
LAST-MODIFIED:20260312T170720Z
UID:10020926-1773649800-1773919800@worksourceskc.org
SUMMARY:ONLINE Strategies for Success: Health & Well-Being (Auburn)
DESCRIPTION:Class times: 8:30-11:30 (4-day class) \nHealth and well-being – What is ‘work-life’ balance? How do I take care of me while taking care of everyone else? Come learn with us! \n\nExamine your inner-professional\, core values\, life choices and personal integrity	\nLearn how to be personally and professionally self-aware\, establish boundaries and develop better stress and time management skills	\nEvaluate your social readiness and online footprint	\nLearn to access community resources and expand networking skills	\nImprove your ability to solve problems\, set goals and develop new action planning techniques
URL:https://worksourceskc.org/event/online-strategies-for-success-health-well-being-auburn-662/
CATEGORIES:WorkSource Auburn
END:VEVENT
BEGIN:VEVENT
DTSTART;TZID=America/Los_Angeles:20260316T083000
DTEND;TZID=America/Los_Angeles:20260319T113000
DTSTAMP:20260421T193452
CREATED:20260312T170753Z
LAST-MODIFIED:20260312T170753Z
UID:10020933-1773649800-1773919800@worksourceskc.org
SUMMARY:ONLINE Strategies for Success: Health & Well-Being (Auburn)
DESCRIPTION:Class times: 8:30-11:30 (4-day class) \nHealth and well-being – What is ‘work-life’ balance? How do I take care of me while taking care of everyone else? Come learn with us! \n\nExamine your inner-professional\, core values\, life choices and personal integrity	\nLearn how to be personally and professionally self-aware\, establish boundaries and develop better stress and time management skills	\nEvaluate your social readiness and online footprint	\nLearn to access community resources and expand networking skills	\nImprove your ability to solve problems\, set goals and develop new action planning techniques
URL:https://worksourceskc.org/event/online-strategies-for-success-health-well-being-auburn-663/
CATEGORIES:WorkSource Auburn
END:VEVENT
BEGIN:VEVENT
DTSTART;TZID=America/Los_Angeles:20260316T083000
DTEND;TZID=America/Los_Angeles:20260319T113000
DTSTAMP:20260421T193452
CREATED:20260312T170823Z
LAST-MODIFIED:20260316T233623Z
UID:10020940-1773649800-1773919800@worksourceskc.org
SUMMARY:ONLINE Strategies for Success: Health & Well-Being (Auburn)
DESCRIPTION:Class times: 8:30-11:30 (4-day class) \nHealth and well-being – What is ‘work-life’ balance? How do I take care of me while taking care of everyone else? Come learn with us! \n\nExamine your inner-professional\, core values\, life choices and personal integrity	\nLearn how to be personally and professionally self-aware\, establish boundaries and develop better stress and time management skills	\nEvaluate your social readiness and online footprint	\nLearn to access community resources and expand networking skills	\nImprove your ability to solve problems\, set goals and develop new action planning techniques
URL:https://worksourceskc.org/event/online-strategies-for-success-health-well-being-auburn-664/
CATEGORIES:WorkSource Auburn
END:VEVENT
BEGIN:VEVENT
DTSTART;TZID=America/Los_Angeles:20260316T090000
DTEND;TZID=America/Los_Angeles:20260319T110000
DTSTAMP:20260421T193452
CREATED:20260316T230717Z
LAST-MODIFIED:20260316T230717Z
UID:10020983-1773651600-1773918000@worksourceskc.org
SUMMARY:Digital Literacy Classes
DESCRIPTION:Digital Literacy Classes scheduled for January: \nSchedule: Class A: Mondays & Wednesdays Class B: Tuesdays & Thursdays \nNote: Class B repeats the same content\, providing an additional opportunity for participants who missed Class A or would like to reinforce their learning. These sessions are designed to run throughout the month of January. Participants may attend repeatedly\, as each Class B session will repeat the content of the corresponding Class A session. This ensures that anyone who misses the first session will have another opportunity to complete the same training. These sessions will run from 9:00 AM to 11:00 AM\, four days each week for five weeks
URL:https://worksourceskc.org/event/digital-literacy-classes-880/
CATEGORIES:WorkSource Rainier
END:VEVENT
BEGIN:VEVENT
DTSTART;TZID=America/Los_Angeles:20260316T090000
DTEND;TZID=America/Los_Angeles:20260319T110000
DTSTAMP:20260421T193452
CREATED:20260316T230904Z
LAST-MODIFIED:20260316T230904Z
UID:10020996-1773651600-1773918000@worksourceskc.org
SUMMARY:Digital Literacy Classes
DESCRIPTION:Digital Literacy Classes scheduled for January: \nSchedule: Class A: Mondays & Wednesdays Class B: Tuesdays & Thursdays \nNote: Class B repeats the same content\, providing an additional opportunity for participants who missed Class A or would like to reinforce their learning. These sessions are designed to run throughout the month of January. Participants may attend repeatedly\, as each Class B session will repeat the content of the corresponding Class A session. This ensures that anyone who misses the first session will have another opportunity to complete the same training. These sessions will run from 9:00 AM to 11:00 AM\, four days each week for five weeks
URL:https://worksourceskc.org/event/digital-literacy-classes-882/
CATEGORIES:WorkSource Rainier
END:VEVENT
BEGIN:VEVENT
DTSTART;TZID=America/Los_Angeles:20260316T090000
DTEND;TZID=America/Los_Angeles:20260319T110000
DTSTAMP:20260421T193452
CREATED:20260316T230946Z
LAST-MODIFIED:20260316T230946Z
UID:10021005-1773651600-1773918000@worksourceskc.org
SUMMARY:Digital Literacy Classes
DESCRIPTION:Digital Literacy Classes scheduled for January: \nSchedule: Class A: Mondays & Wednesdays Class B: Tuesdays & Thursdays \nNote: Class B repeats the same content\, providing an additional opportunity for participants who missed Class A or would like to reinforce their learning. These sessions are designed to run throughout the month of January. Participants may attend repeatedly\, as each Class B session will repeat the content of the corresponding Class A session. This ensures that anyone who misses the first session will have another opportunity to complete the same training. These sessions will run from 9:00 AM to 11:00 AM\, four days each week for five weeks
URL:https://worksourceskc.org/event/digital-literacy-classes-884/
CATEGORIES:WorkSource Rainier
END:VEVENT
BEGIN:VEVENT
DTSTART;TZID=America/Los_Angeles:20260316T090000
DTEND;TZID=America/Los_Angeles:20260319T110000
DTSTAMP:20260421T193452
CREATED:20260316T231023Z
LAST-MODIFIED:20260316T233625Z
UID:10021014-1773651600-1773918000@worksourceskc.org
SUMMARY:Digital Literacy Classes
DESCRIPTION:Digital Literacy Classes scheduled for January: \nSchedule: Class A: Mondays & Wednesdays Class B: Tuesdays & Thursdays \nNote: Class B repeats the same content\, providing an additional opportunity for participants who missed Class A or would like to reinforce their learning. These sessions are designed to run throughout the month of January. Participants may attend repeatedly\, as each Class B session will repeat the content of the corresponding Class A session. This ensures that anyone who misses the first session will have another opportunity to complete the same training. These sessions will run from 9:00 AM to 11:00 AM\, four days each week for five weeks
URL:https://worksourceskc.org/event/digital-literacy-classes-886/
CATEGORIES:WorkSource Rainier
END:VEVENT
BEGIN:VEVENT
DTSTART;TZID=America/Los_Angeles:20260316T090000
DTEND;TZID=America/Los_Angeles:20260319T120000
DTSTAMP:20260421T193452
CREATED:20260217T023236Z
LAST-MODIFIED:20260316T233430Z
UID:10020188-1773651600-1773921600@worksourceskc.org
SUMMARY:Online Strategies for Success: Community Engagement (Okanogan)
DESCRIPTION:Community engagement – Why are we such social creatures? We will show you how communities can lift each other up and how even the tiniest gestures can change the world! \n\nDiscover what it means when people talk about an individual’s culture or self-identity\, and what it means to be sensitive to it	\nLearn about your personal and social rights\, demonstrating citizenship and civic engagement
URL:https://worksourceskc.org/event/online-strategies-for-success-community-engagement-okanogan-344/
CATEGORIES:Virtual Online Events
END:VEVENT
BEGIN:VEVENT
DTSTART;TZID=America/Los_Angeles:20260316T090000
DTEND;TZID=America/Los_Angeles:20260319T120000
DTSTAMP:20260421T193452
CREATED:20260217T023237Z
LAST-MODIFIED:20260316T233431Z
UID:10020189-1773651600-1773921600@worksourceskc.org
SUMMARY:Online: Strategies for Success: Health & Well-Being ( Wenatchee)
DESCRIPTION:Health and well-being – What is ‘work-life’ balance? How do I take care of me while taking care of everyone else? Come learn with us! \n\nExamine your inner-professional\, core values\, life choices and personal integrity	\nLearn how to be personally and professionally self-aware\, establish boundaries and develop better stress and time management skills	\nEvaluate your social readiness and online footprint	\nLearn to access community resources and expand networking skills	\nImprove your ability to solve problems\, set goals and develop new action planning techniques
URL:https://worksourceskc.org/event/online-strategies-for-success-health-well-being-wenatchee-222/
CATEGORIES:Virtual Online Events
END:VEVENT
BEGIN:VEVENT
DTSTART;TZID=America/Los_Angeles:20260316T090000
DTEND;TZID=America/Los_Angeles:20260319T120000
DTSTAMP:20260421T193452
CREATED:20260217T023238Z
LAST-MODIFIED:20260316T233432Z
UID:10020190-1773651600-1773921600@worksourceskc.org
SUMMARY:ONLINE Strategies for Success: Health & Well-Being Central Basin (Moses Lake)
DESCRIPTION:Health and well-being – What is ‘work-life’ balance? How do I take care of me while taking care of everyone else? Come learn with us! \n\nExamine your inner-professional\, core values\, life choices and personal integrity	\nLearn how to be personally and professionally self-aware\, establish boundaries and develop better stress and time management skills	\nEvaluate your social readiness and online footprint	\nLearn to access community resources and expand networking skills	\nImprove your ability to solve problems\, set goals and develop new action planning techniques
URL:https://worksourceskc.org/event/online-strategies-for-success-health-well-being-central-basin-moses-lake-383/
CATEGORIES:Virtual Online Events
END:VEVENT
BEGIN:VEVENT
DTSTART;TZID=America/Los_Angeles:20260316T090000
DTEND;TZID=America/Los_Angeles:20260319T120000
DTSTAMP:20260421T193452
CREATED:20260217T023239Z
LAST-MODIFIED:20260316T233432Z
UID:10020191-1773651600-1773921600@worksourceskc.org
SUMMARY:(Spanish SFS) EN LINEA Estrategias para el Éxito: Modulo 5 Compromiso en la Comunidad – en todo el estado
DESCRIPTION:
URL:https://worksourceskc.org/event/spanish-sfs-en-linea-estrategias-para-el-xito-modulo-5-compromiso-en-la-comunidad-en-todo-el-estado-164/
CATEGORIES:Virtual Online Events
END:VEVENT
BEGIN:VEVENT
DTSTART;TZID=America/Los_Angeles:20260316T090000
DTEND;TZID=America/Los_Angeles:20260319T120000
DTSTAMP:20260421T193452
CREATED:20260217T023240Z
LAST-MODIFIED:20260227T183846Z
UID:10020192-1773651600-1773921600@worksourceskc.org
SUMMARY:ONLINE Strategies for Success: Health & Well-Being (Colville)
DESCRIPTION:Health and well-being – What is ‘work-life’ balance? How do I take care of me while taking care of everyone else? Come learn with us! \n\nExamine your inner-professional\, core values\, life choices and personal integrity	\nLearn how to be personally and professionally self-aware\, establish boundaries and develop better stress and time management skills	\nEvaluate your social readiness and online footprint	\nLearn to access community resources and expand networking skills	\nImprove your ability to solve problems\, set goals and develop new action planning techniques
URL:https://worksourceskc.org/event/online-strategies-for-success-health-well-being-colville-279/
CATEGORIES:Virtual Online Events
END:VEVENT
BEGIN:VEVENT
DTSTART;TZID=America/Los_Angeles:20260316T090000
DTEND;TZID=America/Los_Angeles:20260319T120000
DTSTAMP:20260421T193452
CREATED:20260302T064700Z
LAST-MODIFIED:20260316T233429Z
UID:10020619-1773651600-1773921600@worksourceskc.org
SUMMARY:ONLINE Strategies for Success: Community Engagement (Colville)
DESCRIPTION:Community engagement – Why are we such social creatures? We will show you how communities can lift each other up and how even the tiniest gestures can change the world! \n\nDiscover what it means when people talk about an individual’s culture or self-identity\, and what it means to be sensitive to it	\nLearn about your personal and social rights\, demonstrating citizenship and civic engagement
URL:https://worksourceskc.org/event/online-strategies-for-success-community-engagement-colville-253/
CATEGORIES:Virtual Online Events
END:VEVENT
BEGIN:VEVENT
DTSTART;TZID=America/Los_Angeles:20260316T090000
DTEND;TZID=America/Los_Angeles:20260319T120000
DTSTAMP:20260421T193452
CREATED:20260303T101317Z
LAST-MODIFIED:20260316T233428Z
UID:10020730-1773651600-1773921600@worksourceskc.org
SUMMARY:ONLINE Strategies for Success: Community Engagement (Colville)
DESCRIPTION:Community engagement – Why are we such social creatures? We will show you how communities can lift each other up and how even the tiniest gestures can change the world! \n\nDiscover what it means when people talk about an individual’s culture or self-identity\, and what it means to be sensitive to it	\nLearn about your personal and social rights\, demonstrating citizenship and civic engagement
URL:https://worksourceskc.org/event/online-strategies-for-success-community-engagement-colville-256/
CATEGORIES:Virtual Online Events
END:VEVENT
BEGIN:VEVENT
DTSTART;TZID=America/Los_Angeles:20260316T090000
DTEND;TZID=America/Los_Angeles:20260319T120000
DTSTAMP:20260421T193452
CREATED:20260312T170545Z
LAST-MODIFIED:20260312T170545Z
UID:10020915-1773651600-1773921600@worksourceskc.org
SUMMARY:Strategies for Success 2: Health & Well-Being (Rainier)
DESCRIPTION:Health and well-being – What is ‘work-life’ balance? How do I take care of me while taking care of everyone else? Come learn with us! \n\nExamine your inner-professional\, core values\, life choices and personal integrity	\nLearn how to be personally and professionally self-aware\, establish boundaries and develop better stress and time management skills	\nEvaluate your social readiness and online footprint	\nLearn to access community resources and expand networking skills	\nImprove your ability to solve problems\, set goals and develop new action planning techniques
URL:https://worksourceskc.org/event/strategies-for-success-2-health-well-being-rainier-916/
CATEGORIES:WorkSource Rainier
END:VEVENT
BEGIN:VEVENT
DTSTART;TZID=America/Los_Angeles:20260316T090000
DTEND;TZID=America/Los_Angeles:20260319T120000
DTSTAMP:20260421T193452
CREATED:20260312T170617Z
LAST-MODIFIED:20260312T170617Z
UID:10020919-1773651600-1773921600@worksourceskc.org
SUMMARY:Strategies for Success 2: Health & Well-Being (Rainier)
DESCRIPTION:Health and well-being – What is ‘work-life’ balance? How do I take care of me while taking care of everyone else? Come learn with us! \n\nExamine your inner-professional\, core values\, life choices and personal integrity	\nLearn how to be personally and professionally self-aware\, establish boundaries and develop better stress and time management skills	\nEvaluate your social readiness and online footprint	\nLearn to access community resources and expand networking skills	\nImprove your ability to solve problems\, set goals and develop new action planning techniques
URL:https://worksourceskc.org/event/strategies-for-success-2-health-well-being-rainier-917/
CATEGORIES:Virtual Online Events
END:VEVENT
BEGIN:VEVENT
DTSTART;TZID=America/Los_Angeles:20260316T090000
DTEND;TZID=America/Los_Angeles:20260319T120000
DTSTAMP:20260421T193452
CREATED:20260312T170722Z
LAST-MODIFIED:20260312T170722Z
UID:10020927-1773651600-1773921600@worksourceskc.org
SUMMARY:Strategies for Success 2: Health & Well-Being (Rainier)
DESCRIPTION:Health and well-being – What is ‘work-life’ balance? How do I take care of me while taking care of everyone else? Come learn with us! \n\nExamine your inner-professional\, core values\, life choices and personal integrity	\nLearn how to be personally and professionally self-aware\, establish boundaries and develop better stress and time management skills	\nEvaluate your social readiness and online footprint	\nLearn to access community resources and expand networking skills	\nImprove your ability to solve problems\, set goals and develop new action planning techniques
URL:https://worksourceskc.org/event/strategies-for-success-2-health-well-being-rainier-918/
CATEGORIES:WorkSource Rainier
END:VEVENT
BEGIN:VEVENT
DTSTART;TZID=America/Los_Angeles:20260316T090000
DTEND;TZID=America/Los_Angeles:20260319T120000
DTSTAMP:20260421T193452
CREATED:20260312T170756Z
LAST-MODIFIED:20260316T233625Z
UID:10020934-1773651600-1773921600@worksourceskc.org
SUMMARY:Strategies for Success 2: Health & Well-Being (Rainier)
DESCRIPTION:Health and well-being – What is ‘work-life’ balance? How do I take care of me while taking care of everyone else? Come learn with us! \n\nExamine your inner-professional\, core values\, life choices and personal integrity	\nLearn how to be personally and professionally self-aware\, establish boundaries and develop better stress and time management skills	\nEvaluate your social readiness and online footprint	\nLearn to access community resources and expand networking skills	\nImprove your ability to solve problems\, set goals and develop new action planning techniques
URL:https://worksourceskc.org/event/strategies-for-success-2-health-well-being-rainier-919/
CATEGORIES:WorkSource Rainier
END:VEVENT
BEGIN:VEVENT
DTSTART;TZID=America/Los_Angeles:20260316T130000
DTEND;TZID=America/Los_Angeles:20260319T160000
DTSTAMP:20260421T193452
CREATED:20260217T023245Z
LAST-MODIFIED:20260316T233438Z
UID:10020195-1773666000-1773936000@worksourceskc.org
SUMMARY:ONLINE Strategies for Success: Health & Well-Being (Island)
DESCRIPTION:Health and well-being – What is ‘work-life’ balance? How do I take care of me while taking care of everyone else? Come learn with us! \n\nExamine your inner-professional\, core values\, life choices and personal integrity	\nLearn how to be personally and professionally self-aware\, establish boundaries and develop better stress and time management skills	\nEvaluate your social readiness and online footprint	\nLearn to access community resources and expand networking skills	\nImprove your ability to solve problems\, set goals and develop new action planning techniques
URL:https://worksourceskc.org/event/online-strategies-for-success-health-well-being-island-241/
CATEGORIES:Virtual Online Events
END:VEVENT
BEGIN:VEVENT
DTSTART;TZID=America/Los_Angeles:20260316T133000
DTEND;TZID=America/Los_Angeles:20260317T153000
DTSTAMP:20260421T193452
CREATED:20260217T023139Z
LAST-MODIFIED:20260217T023139Z
UID:10020172-1773667800-1773761400@worksourceskc.org
SUMMARY:ONLINE Financial Capabilities: Where Does Your Money Go? (Auburn)
DESCRIPTION:Class times: 1:30-3:30 pm (Classes are Mondays and Tuesdays) \nWhere does your money go? \nInvestigate your spending habits and construct a monthly budget.
URL:https://worksourceskc.org/event/online-financial-capabilities-where-does-your-money-go-auburn-593/
CATEGORIES:WorkSource Auburn
END:VEVENT
BEGIN:VEVENT
DTSTART;TZID=America/Los_Angeles:20260316T133000
DTEND;TZID=America/Los_Angeles:20260317T153000
DTSTAMP:20260421T193452
CREATED:20260217T023336Z
LAST-MODIFIED:20260217T023336Z
UID:10020225-1773667800-1773761400@worksourceskc.org
SUMMARY:ONLINE Financial Capabilities: Where Does Your Money Go? (Auburn)
DESCRIPTION:Class times: 1:30-3:30 pm (Classes are Mondays and Tuesdays) \nWhere does your money go? \nInvestigate your spending habits and construct a monthly budget.
URL:https://worksourceskc.org/event/online-financial-capabilities-where-does-your-money-go-auburn-594/
CATEGORIES:WorkSource Auburn
END:VEVENT
BEGIN:VEVENT
DTSTART;TZID=America/Los_Angeles:20260316T133000
DTEND;TZID=America/Los_Angeles:20260317T153000
DTSTAMP:20260421T193452
CREATED:20260217T023353Z
LAST-MODIFIED:20260316T233626Z
UID:10020234-1773667800-1773761400@worksourceskc.org
SUMMARY:ONLINE Financial Capabilities: Where Does Your Money Go? (Auburn)
DESCRIPTION:Class times: 1:30-3:30 pm (Classes are Mondays and Tuesdays) \nWhere does your money go? \nInvestigate your spending habits and construct a monthly budget.
URL:https://worksourceskc.org/event/online-financial-capabilities-where-does-your-money-go-auburn-595/
CATEGORIES:WorkSource Auburn
END:VEVENT
BEGIN:VEVENT
DTSTART;TZID=America/Los_Angeles:20260317T000000
DTEND;TZID=America/Los_Angeles:20260318T000000
DTSTAMP:20260421T193452
CREATED:20260217T023247Z
LAST-MODIFIED:20260317T233739Z
UID:10020198-1773705600-1773792000@worksourceskc.org
SUMMARY:Overcoming Ageism
DESCRIPTION:📌 OverviewOvercoming Ageism is a self-paced workshop series designed to help experienced job seekers navigate bias\, reframe their strengths\, and show up with confidence in today’s hiring landscape. Through a blend of storytelling\, humor\, and practical strategy\, participants learn how to position age as a strategic advantage—not a liability. The module includes both full-length sessions and shorter\, focused videos featuring Alan and Ada—AI voices crafted to guide learners through resume reframes\, interview prep\, and mindset shifts.💼 What You’ll LearnHow to identify and counter common age-related stereotypes in hiringResume and interview strategies that highlight relevance and valueTechniques for reframing experience as a strength\, not a costHow to use AI tools to support—not replace—your job searchWays to build a personal brand that reflects energy\, adaptability\, and impact🧭 Who It’s ForThis module is designed for experienced job seekers\, especially those re-entering the workforce\, pivoting careers\, or facing age-related bias in hiring. It’s also a powerful resource for workforce professionals\, career coaches\, and anyone interested in reframing age as an asset.🚀 Getting StartedTo register\, click here: https://forms.spokaneworkforce.org/233415886991066. Registration may take up to 3 business days. Once processed\, you’ll receive login details and instructions via email. Modules are mobile-friendly\, free to access\, and available on your schedule.
URL:https://worksourceskc.org/event/overcoming-ageism-2404/
CATEGORIES:Virtual Online Events
END:VEVENT
BEGIN:VEVENT
DTSTART;TZID=America/Los_Angeles:20260317T090000
DTEND;TZID=America/Los_Angeles:20260317T110000
DTSTAMP:20260421T193452
CREATED:20260217T023249Z
LAST-MODIFIED:20260317T175629Z
UID:10020199-1773738000-1773745200@worksourceskc.org
SUMMARY:Financial Capabilities: Where Does Your Money Go?
DESCRIPTION:Where does your money go? \nEvery wonder where all your money has gone? Learn to use the tools and strategies to track every dollar and be more intentional with your financial decisions.  \nInvestigate your spending habits and construct a monthly budget.
URL:https://worksourceskc.org/event/financial-capabilities-where-does-your-money-go-111/
CATEGORIES:Virtual Online Events
END:VEVENT
BEGIN:VEVENT
DTSTART;TZID=America/Los_Angeles:20260317T090000
DTEND;TZID=America/Los_Angeles:20260317T110000
DTSTAMP:20260421T193452
CREATED:20260303T101327Z
LAST-MODIFIED:20260317T175629Z
UID:10020731-1773738000-1773745200@worksourceskc.org
SUMMARY:ONLINE - Financial Capabilities: Where Does Your Money Go? (Island)
DESCRIPTION:Where does your money go? \nInvestigate your spending habits and construct a monthly budget.
URL:https://worksourceskc.org/event/online-financial-capabilities-where-does-your-money-go-island-344/
CATEGORIES:Virtual Online Events
END:VEVENT
BEGIN:VEVENT
DTSTART;TZID=America/Los_Angeles:20260317T090000
DTEND;TZID=America/Los_Angeles:20260317T110000
DTSTAMP:20260421T193452
CREATED:20260317T190143Z
LAST-MODIFIED:20260317T190143Z
UID:10021150-1773738000-1773745200@worksourceskc.org
SUMMARY:Financial Capabilities: Where Does Your Money Go?
DESCRIPTION:Where does your money go? \nEvery wonder where all your money has gone? Learn to use the tools and strategies to track every dollar and be more intentional with your financial decisions.  \nInvestigate your spending habits and construct a monthly budget.
URL:https://worksourceskc.org/event/financial-capabilities-where-does-your-money-go-183/
CATEGORIES:Virtual Online Events
END:VEVENT
BEGIN:VEVENT
DTSTART;TZID=America/Los_Angeles:20260317T090000
DTEND;TZID=America/Los_Angeles:20260317T110000
DTSTAMP:20260421T193452
CREATED:20260317T190144Z
LAST-MODIFIED:20260317T190144Z
UID:10021151-1773738000-1773745200@worksourceskc.org
SUMMARY:ONLINE - Financial Capabilities: Where Does Your Money Go? (Island)
DESCRIPTION:Where does your money go? \nInvestigate your spending habits and construct a monthly budget.
URL:https://worksourceskc.org/event/online-financial-capabilities-where-does-your-money-go-island-347/
CATEGORIES:Virtual Online Events
END:VEVENT
END:VCALENDAR