BEGIN:VCALENDAR
VERSION:2.0
PRODID:-//WorkSource Seattle-King County - ECPv6.6.4.2//NONSGML v1.0//EN
CALSCALE:GREGORIAN
METHOD:PUBLISH
X-WR-CALNAME:WorkSource Seattle-King County
X-ORIGINAL-URL:https://worksourceskc.org
X-WR-CALDESC:Events for WorkSource Seattle-King County
REFRESH-INTERVAL;VALUE=DURATION:PT1H
X-Robots-Tag:noindex
X-PUBLISHED-TTL:PT1H
BEGIN:VTIMEZONE
TZID:America/Los_Angeles
BEGIN:DAYLIGHT
TZOFFSETFROM:-0800
TZOFFSETTO:-0700
TZNAME:PDT
DTSTART:20260308T100000
END:DAYLIGHT
BEGIN:STANDARD
TZOFFSETFROM:-0700
TZOFFSETTO:-0800
TZNAME:PST
DTSTART:20261101T090000
END:STANDARD
END:VTIMEZONE
BEGIN:VEVENT
DTSTART;TZID=America/Los_Angeles:20260323T083000
DTEND;TZID=America/Los_Angeles:20260326T113000
DTSTAMP:20260421T112937
CREATED:20260222T232714Z
LAST-MODIFIED:20260323T234223Z
UID:10020251-1774254600-1774524600@worksourceskc.org
SUMMARY:ONLINE Strategies for Success: Communication (Auburn)
DESCRIPTION:Class times: 8:30-11:30 (4-day class) \nCommunication – Communication is a skill that never stops growing! Come learn how to improve your skills and odds of landing that next job! \n\nLearn about interpersonal and business communication and discover your own style	\nDevelop better listening\, writing\, computer and presentation skills	\nFind out about verbal & non-verbal cues\, practice conflict resolution and get tips on emotional control	\nGet tips on how to present yourself the right way on the phone\, in email and on social media.
URL:https://worksourceskc.org/event/online-strategies-for-success-communication-auburn-1473/
CATEGORIES:WorkSource Auburn
END:VEVENT
BEGIN:VEVENT
DTSTART;TZID=America/Los_Angeles:20260323T083000
DTEND;TZID=America/Los_Angeles:20260326T113000
DTSTAMP:20260421T112937
CREATED:20260222T232736Z
LAST-MODIFIED:20260323T234235Z
UID:10020259-1774254600-1774524600@worksourceskc.org
SUMMARY:ONLINE Strategies for Success: Communication (N. Seattle)
DESCRIPTION:Class times: 8:30AM-11:30AM (4-day class) \nModule 3: Communication – Communication is a skill that never stops growing! Come learn how to improve your skills and odds of landing that next job! \n\nLearn about interpersonal and business communication and discover your own style	\nDevelop better listening\, writing\, computer and presentation skills	\nFind out about verbal & non-verbal cues\, practice conflict resolution and get tips on emotional control	\nGet tips on how to present yourself the right way on the phone\, in email and on social media.
URL:https://worksourceskc.org/event/online-strategies-for-success-communication-n-seattle-1591/
CATEGORIES:North Seattle
END:VEVENT
BEGIN:VEVENT
DTSTART;TZID=America/Los_Angeles:20260323T090000
DTEND;TZID=America/Los_Angeles:20260326T110000
DTSTAMP:20260421T112937
CREATED:20260316T230727Z
LAST-MODIFIED:20260316T230727Z
UID:10020986-1774256400-1774522800@worksourceskc.org
SUMMARY:Digital Literacy Classes
DESCRIPTION:Digital Literacy Classes scheduled for January: \nSchedule: Class A: Mondays & Wednesdays Class B: Tuesdays & Thursdays \nNote: Class B repeats the same content\, providing an additional opportunity for participants who missed Class A or would like to reinforce their learning. These sessions are designed to run throughout the month of January. Participants may attend repeatedly\, as each Class B session will repeat the content of the corresponding Class A session. This ensures that anyone who misses the first session will have another opportunity to complete the same training. These sessions will run from 9:00 AM to 11:00 AM\, four days each week for five weeks
URL:https://worksourceskc.org/event/digital-literacy-classes-881/
CATEGORIES:WorkSource Rainier
END:VEVENT
BEGIN:VEVENT
DTSTART;TZID=America/Los_Angeles:20260323T090000
DTEND;TZID=America/Los_Angeles:20260326T110000
DTSTAMP:20260421T112937
CREATED:20260316T230928Z
LAST-MODIFIED:20260316T230928Z
UID:10021000-1774256400-1774522800@worksourceskc.org
SUMMARY:Digital Literacy Classes
DESCRIPTION:Digital Literacy Classes scheduled for January: \nSchedule: Class A: Mondays & Wednesdays Class B: Tuesdays & Thursdays \nNote: Class B repeats the same content\, providing an additional opportunity for participants who missed Class A or would like to reinforce their learning. These sessions are designed to run throughout the month of January. Participants may attend repeatedly\, as each Class B session will repeat the content of the corresponding Class A session. This ensures that anyone who misses the first session will have another opportunity to complete the same training. These sessions will run from 9:00 AM to 11:00 AM\, four days each week for five weeks
URL:https://worksourceskc.org/event/digital-literacy-classes-883/
CATEGORIES:WorkSource Rainier
END:VEVENT
BEGIN:VEVENT
DTSTART;TZID=America/Los_Angeles:20260323T090000
DTEND;TZID=America/Los_Angeles:20260326T110000
DTSTAMP:20260421T112937
CREATED:20260316T231005Z
LAST-MODIFIED:20260323T234252Z
UID:10021009-1774256400-1774522800@worksourceskc.org
SUMMARY:Digital Literacy Classes
DESCRIPTION:Digital Literacy Classes scheduled for January: \nSchedule: Class A: Mondays & Wednesdays Class B: Tuesdays & Thursdays \nNote: Class B repeats the same content\, providing an additional opportunity for participants who missed Class A or would like to reinforce their learning. These sessions are designed to run throughout the month of January. Participants may attend repeatedly\, as each Class B session will repeat the content of the corresponding Class A session. This ensures that anyone who misses the first session will have another opportunity to complete the same training. These sessions will run from 9:00 AM to 11:00 AM\, four days each week for five weeks
URL:https://worksourceskc.org/event/digital-literacy-classes-885/
CATEGORIES:WorkSource Rainier
END:VEVENT
BEGIN:VEVENT
DTSTART;TZID=America/Los_Angeles:20260323T090000
DTEND;TZID=America/Los_Angeles:20260326T120000
DTSTAMP:20260421T112937
CREATED:20260222T232749Z
LAST-MODIFIED:20260222T232749Z
UID:10020263-1774256400-1774526400@worksourceskc.org
SUMMARY:Strategies for Success 3: Communication (Rainier)
DESCRIPTION:Communication – Communication is a skill that never stops growing! Come learn how to improve your skills and odds of landing that next job! \n\nLearn about interpersonal and business communication and discover your own style	\nDevelop better listening\, writing\, computer and presentation skills	\nFind out about verbal & non-verbal cues\, practice conflict resolution and get tips on emotional control	\nGet tips on how to present yourself the right way on the phone\, in email and on social media.
URL:https://worksourceskc.org/event/strategies-for-success-3-communication-rainier-1134/
CATEGORIES:WorkSource Rainier
END:VEVENT
BEGIN:VEVENT
DTSTART;TZID=America/Los_Angeles:20260323T090000
DTEND;TZID=America/Los_Angeles:20260326T120000
DTSTAMP:20260421T112937
CREATED:20260222T232906Z
LAST-MODIFIED:20260323T194720Z
UID:10020290-1774256400-1774526400@worksourceskc.org
SUMMARY:ONLINE Strategies for Success: Work Concepts II (Pullman)
DESCRIPTION:Work Concepts II – You found the perfect job; now let us talk about how to land and keep it! \n\nLearn how to multitask and stay motivated	\nExplore your personal leadership and organization skills	\nLearn to evaluate trauma vs. drama and how to manage the unexpected	\nUnderstand cognitive bias and how it impacts every decision we make	\nDevelop a solid vision for a professional future
URL:https://worksourceskc.org/event/online-strategies-for-success-work-concepts-ii-pullman-99/
CATEGORIES:Virtual Online Events
END:VEVENT
BEGIN:VEVENT
DTSTART;TZID=America/Los_Angeles:20260323T090000
DTEND;TZID=America/Los_Angeles:20260326T120000
DTSTAMP:20260421T112937
CREATED:20260222T232907Z
LAST-MODIFIED:20260323T194722Z
UID:10020291-1774256400-1774526400@worksourceskc.org
SUMMARY:Online Strategies for Success: Work Concepts II (Okanogan)
DESCRIPTION:Work Concepts II – You found the perfect job; now let us talk about how to land and keep it! \n\nLearn how to multitask and stay motivated	\nExplore your personal leadership and organization skills	\nLearn to evaluate trauma vs. drama and how to manage the unexpected	\nUnderstand cognitive bias and how it impacts every decision we make	\nDevelop a solid vision for a professional future
URL:https://worksourceskc.org/event/online-strategies-for-success-work-concepts-ii-okanogan-466/
CATEGORIES:Virtual Online Events
END:VEVENT
BEGIN:VEVENT
DTSTART;TZID=America/Los_Angeles:20260323T090000
DTEND;TZID=America/Los_Angeles:20260326T120000
DTSTAMP:20260421T112937
CREATED:20260222T232908Z
LAST-MODIFIED:20260323T194723Z
UID:10020292-1774256400-1774526400@worksourceskc.org
SUMMARY:Online: Strategies for Success: Communication ( Wenatchee)
DESCRIPTION:Communication – Communication is a skill that never stops growing! Come learn how to improve your skills and odds of landing that next job! \n\nLearn about interpersonal and business communication and discover your own style	\nDevelop better listening\, writing\, computer and presentation skills	\nFind out about verbal & non-verbal cues\, practice conflict resolution and get tips on emotional control	\nGet tips on how to present yourself the right way on the phone\, in email and on social media.
URL:https://worksourceskc.org/event/online-strategies-for-success-communication-wenatchee-501/
CATEGORIES:Virtual Online Events
END:VEVENT
BEGIN:VEVENT
DTSTART;TZID=America/Los_Angeles:20260323T090000
DTEND;TZID=America/Los_Angeles:20260326T120000
DTSTAMP:20260421T112937
CREATED:20260222T232909Z
LAST-MODIFIED:20260323T194724Z
UID:10020293-1774256400-1774526400@worksourceskc.org
SUMMARY:ONLINE Strategies for Success: Communication Central Basin (Moses Lake)
DESCRIPTION:Communication – Communication is a skill that never stops growing! Come learn how to improve your skills and odds of landing that next job! \n\nLearn about interpersonal and business communication and discover your own style	\nDevelop better listening\, writing\, computer and presentation skills	\nFind out about verbal & non-verbal cues\, practice conflict resolution and get tips on emotional control	\nGet tips on how to present yourself the right way on the phone\, in email and on social media.
URL:https://worksourceskc.org/event/online-strategies-for-success-communication-central-basin-moses-lake-274/
CATEGORIES:Virtual Online Events
END:VEVENT
BEGIN:VEVENT
DTSTART;TZID=America/Los_Angeles:20260323T090000
DTEND;TZID=America/Los_Angeles:20260326T120000
DTSTAMP:20260421T112937
CREATED:20260222T232910Z
LAST-MODIFIED:20260323T194725Z
UID:10020294-1774256400-1774526400@worksourceskc.org
SUMMARY:(Spanish SFS) EN LINEA Estrategias para el Éxito: Modulo 6 Conceptos de Trabajo II – en todo el estado
DESCRIPTION:
URL:https://worksourceskc.org/event/spanish-sfs-en-linea-estrategias-para-el-xito-modulo-6-conceptos-de-trabajo-ii-en-todo-el-estado-272/
CATEGORIES:Virtual Online Events
END:VEVENT
BEGIN:VEVENT
DTSTART;TZID=America/Los_Angeles:20260323T090000
DTEND;TZID=America/Los_Angeles:20260326T120000
DTSTAMP:20260421T112937
CREATED:20260222T232911Z
LAST-MODIFIED:20260227T145723Z
UID:10020295-1774256400-1774526400@worksourceskc.org
SUMMARY:ONLINE Strategies for Success: Communication (Colville)
DESCRIPTION:Communication – Communication is a skill that never stops growing! Come learn how to improve your skills and odds of landing that next job! \n\nLearn about interpersonal and business communication and discover your own style	\nDevelop better listening\, writing\, computer and presentation skills	\nFind out about verbal & non-verbal cues\, practice conflict resolution and get tips on emotional control	\nGet tips on how to present yourself the right way on the phone\, in email and on social media.
URL:https://worksourceskc.org/event/online-strategies-for-success-communication-colville-206/
CATEGORIES:Virtual Online Events
END:VEVENT
BEGIN:VEVENT
DTSTART;TZID=America/Los_Angeles:20260323T090000
DTEND;TZID=America/Los_Angeles:20260326T120000
DTSTAMP:20260421T112937
CREATED:20260222T232946Z
LAST-MODIFIED:20260222T232946Z
UID:10020309-1774256400-1774526400@worksourceskc.org
SUMMARY:Strategies for Success 3: Communication (Rainier)
DESCRIPTION:Communication – Communication is a skill that never stops growing! Come learn how to improve your skills and odds of landing that next job! \n\nLearn about interpersonal and business communication and discover your own style	\nDevelop better listening\, writing\, computer and presentation skills	\nFind out about verbal & non-verbal cues\, practice conflict resolution and get tips on emotional control	\nGet tips on how to present yourself the right way on the phone\, in email and on social media.
URL:https://worksourceskc.org/event/strategies-for-success-3-communication-rainier-1135/
CATEGORIES:WorkSource Rainier
END:VEVENT
BEGIN:VEVENT
DTSTART;TZID=America/Los_Angeles:20260323T090000
DTEND;TZID=America/Los_Angeles:20260326T120000
DTSTAMP:20260421T112937
CREATED:20260222T233012Z
LAST-MODIFIED:20260323T234253Z
UID:10020319-1774256400-1774526400@worksourceskc.org
SUMMARY:Strategies for Success 3: Communication (Rainier)
DESCRIPTION:Communication – Communication is a skill that never stops growing! Come learn how to improve your skills and odds of landing that next job! \n\nLearn about interpersonal and business communication and discover your own style	\nDevelop better listening\, writing\, computer and presentation skills	\nFind out about verbal & non-verbal cues\, practice conflict resolution and get tips on emotional control	\nGet tips on how to present yourself the right way on the phone\, in email and on social media.
URL:https://worksourceskc.org/event/strategies-for-success-3-communication-rainier-1136/
CATEGORIES:WorkSource Rainier
END:VEVENT
BEGIN:VEVENT
DTSTART;TZID=America/Los_Angeles:20260323T090000
DTEND;TZID=America/Los_Angeles:20260326T120000
DTSTAMP:20260421T112937
CREATED:20260302T065314Z
LAST-MODIFIED:20260323T194721Z
UID:10020645-1774256400-1774526400@worksourceskc.org
SUMMARY:ONLINE Strategies for Success: Work Concepts II (Colville)
DESCRIPTION:Work Concepts II – You found the perfect job; now let us talk about how to land and keep it! \n\nLearn how to multitask and stay motivated	\nExplore your personal leadership and organization skills	\nLearn to evaluate trauma vs. drama and how to manage the unexpected	\nUnderstand cognitive bias and how it impacts every decision we make	\nDevelop a solid vision for a professional future
URL:https://worksourceskc.org/event/online-strategies-for-success-work-concepts-ii-colville-373/
CATEGORIES:Virtual Online Events
END:VEVENT
BEGIN:VEVENT
DTSTART;TZID=America/Los_Angeles:20260323T090000
DTEND;TZID=America/Los_Angeles:20260326T120000
DTSTAMP:20260421T112937
CREATED:20260322T130239Z
LAST-MODIFIED:20260323T194719Z
UID:10021319-1774256400-1774526400@worksourceskc.org
SUMMARY:Online Strategies for Success: Work Concepts II (Shelton/Mason)
DESCRIPTION:Work Concepts II – You found the perfect job; now let us talk about how to land and keep it! \n\nLearn how to multitask and stay motivated	\nExplore your personal leadership and organization skills	\nLearn to evaluate trauma vs. drama and how to manage the unexpected	\nUnderstand cognitive bias and how it impacts every decision we make	\nDevelop a solid vision for a professional future
URL:https://worksourceskc.org/event/online-strategies-for-success-work-concepts-ii-shelton-mason-337/
CATEGORIES:Virtual Online Events
END:VEVENT
BEGIN:VEVENT
DTSTART;TZID=America/Los_Angeles:20260323T130000
DTEND;TZID=America/Los_Angeles:20260326T160000
DTSTAMP:20260421T112937
CREATED:20260222T232919Z
LAST-MODIFIED:20260323T194727Z
UID:10020298-1774270800-1774540800@worksourceskc.org
SUMMARY:ONLINE _ Strategies for Success: Communication (Island)
DESCRIPTION:Communication – Communication is a skill that never stops growing! Come learn how to improve your skills and odds of landing that next job! \n\nLearn about interpersonal and business communication and discover your own style	\nDevelop better listening\, writing\, computer and presentation skills	\nFind out about verbal & non-verbal cues\, practice conflict resolution and get tips on emotional control	\nGet tips on how to present yourself the right way on the phone\, in email and on social media.
URL:https://worksourceskc.org/event/online-_-strategies-for-success-communication-island-12/
CATEGORIES:Virtual Online Events
END:VEVENT
BEGIN:VEVENT
DTSTART;TZID=America/Los_Angeles:20260323T133000
DTEND;TZID=America/Los_Angeles:20260324T153000
DTSTAMP:20260421T112937
CREATED:20260222T232716Z
LAST-MODIFIED:20260222T232716Z
UID:10020252-1774272600-1774366200@worksourceskc.org
SUMMARY:ONLINE Financial Capabilities: Make Changes With Your Money (Auburn)
DESCRIPTION:Class times: 1:30-3:30 pm (Classes are Mondays and Tuesdays) \nMake changes with your money \nConsider your financial goals and learn how to use banks and lending institutions.
URL:https://worksourceskc.org/event/online-financial-capabilities-make-changes-with-your-money-auburn-1344/
CATEGORIES:WorkSource Auburn
END:VEVENT
BEGIN:VEVENT
DTSTART;TZID=America/Los_Angeles:20260323T133000
DTEND;TZID=America/Los_Angeles:20260324T153000
DTSTAMP:20260421T112937
CREATED:20260222T232947Z
LAST-MODIFIED:20260323T234223Z
UID:10020310-1774272600-1774366200@worksourceskc.org
SUMMARY:ONLINE Financial Capabilities: Make Changes With Your Money (Auburn)
DESCRIPTION:Class times: 1:30-3:30 pm (Classes are Mondays and Tuesdays) \nMake changes with your money \nConsider your financial goals and learn how to use banks and lending institutions.
URL:https://worksourceskc.org/event/online-financial-capabilities-make-changes-with-your-money-auburn-1345/
CATEGORIES:WorkSource Auburn
END:VEVENT
BEGIN:VEVENT
DTSTART;TZID=America/Los_Angeles:20260324T000000
DTEND;TZID=America/Los_Angeles:20260325T000000
DTSTAMP:20260421T112937
CREATED:20260223T040628Z
LAST-MODIFIED:20260324T224908Z
UID:10020369-1774310400-1774396800@worksourceskc.org
SUMMARY:Overcoming Ageism
DESCRIPTION:📌 OverviewOvercoming Ageism is a self-paced workshop series designed to help experienced job seekers navigate bias\, reframe their strengths\, and show up with confidence in today’s hiring landscape. Through a blend of storytelling\, humor\, and practical strategy\, participants learn how to position age as a strategic advantage—not a liability. The module includes both full-length sessions and shorter\, focused videos featuring Alan and Ada—AI voices crafted to guide learners through resume reframes\, interview prep\, and mindset shifts.💼 What You’ll LearnHow to identify and counter common age-related stereotypes in hiringResume and interview strategies that highlight relevance and valueTechniques for reframing experience as a strength\, not a costHow to use AI tools to support—not replace—your job searchWays to build a personal brand that reflects energy\, adaptability\, and impact🧭 Who It’s ForThis module is designed for experienced job seekers\, especially those re-entering the workforce\, pivoting careers\, or facing age-related bias in hiring. It’s also a powerful resource for workforce professionals\, career coaches\, and anyone interested in reframing age as an asset.🚀 Getting StartedTo register\, click here: https://forms.spokaneworkforce.org/233415886991066. Registration may take up to 3 business days. Once processed\, you’ll receive login details and instructions via email. Modules are mobile-friendly\, free to access\, and available on your schedule.
URL:https://worksourceskc.org/event/overcoming-ageism-2701/
CATEGORIES:Virtual Online Events
END:VEVENT
BEGIN:VEVENT
DTSTART;TZID=America/Los_Angeles:20260324T100000
DTEND;TZID=America/Los_Angeles:20260324T110000
DTSTAMP:20260421T112937
CREATED:20260223T040630Z
LAST-MODIFIED:20260324T175617Z
UID:10020370-1774346400-1774350000@worksourceskc.org
SUMMARY:Learn about Gmail - In-person
DESCRIPTION:Need to learn to successfully use your email for job search? \nLearn to create\, or better utilize\, a Google Email (Gmail) account\, This course offers learners the opportunity to create an email account\, guide through the process of account creation\, help them navigate the use of categories within their in box\, along with learning about advanced features such as creating professional signatures\, utilizing filters and tools to enhance email productivity.
URL:https://worksourceskc.org/event/learn-about-gmail-in-person-382/
CATEGORIES:Virtual Online Events
END:VEVENT
BEGIN:VEVENT
DTSTART;TZID=America/Los_Angeles:20260324T100000
DTEND;TZID=America/Los_Angeles:20260324T120000
DTSTAMP:20260421T112937
CREATED:20260227T145627Z
LAST-MODIFIED:20260324T124609Z
UID:10020555-1774346400-1774353600@worksourceskc.org
SUMMARY:Microsoft Excel Fundamentals Part 2 (In-person)
DESCRIPTION:A continuation of the Microsoft Excel refresher for new users or those needing additional tips and tricks. \n\nA deeper dive into Excel formulas\n\n\nCharts\, graphs\, and Pivot tables
URL:https://worksourceskc.org/event/microsoft-excel-fundamentals-part-2-in-person-1208/
CATEGORIES:North Seattle
END:VEVENT
BEGIN:VEVENT
DTSTART;TZID=America/Los_Angeles:20260324T100000
DTEND;TZID=America/Los_Angeles:20260324T120000
DTSTAMP:20260421T112937
CREATED:20260227T145851Z
LAST-MODIFIED:20260324T185056Z
UID:10020582-1774346400-1774353600@worksourceskc.org
SUMMARY:Microsoft Excel Fundamentals Part 2 (In-person)
DESCRIPTION:A continuation of the Microsoft Excel refresher for new users or those needing additional tips and tricks. \n\nA deeper dive into Excel formulas\n\n\nCharts\, graphs\, and Pivot tables
URL:https://worksourceskc.org/event/microsoft-excel-fundamentals-part-2-in-person-1209/
CATEGORIES:North Seattle
END:VEVENT
BEGIN:VEVENT
DTSTART;TZID=America/Los_Angeles:20260324T100000
DTEND;TZID=America/Los_Angeles:20260324T120000
DTSTAMP:20260421T112937
CREATED:20260316T230713Z
LAST-MODIFIED:20260316T230713Z
UID:10020982-1774346400-1774353600@worksourceskc.org
SUMMARY:Mock Interview Practices (In-person)
DESCRIPTION:Going into an interview can be a little scary\, until now! \n  \nWorkSource is hosting a new workshop to help individuals gain the skills and tools for successful interviews\, answer questions\, and build your confidence! \n  \nThis will be fun and informative. Be sure to join us!  \n  \nSign up for this workshop at: www.worksourcewa.com \nSearch Workshops for: \n“Mock Interview Practice” \n 
URL:https://worksourceskc.org/event/mock-interview-practices-in-person-9/
CATEGORIES:North Seattle
END:VEVENT
BEGIN:VEVENT
DTSTART;TZID=America/Los_Angeles:20260324T100000
DTEND;TZID=America/Los_Angeles:20260324T120000
DTSTAMP:20260421T112937
CREATED:20260316T230935Z
LAST-MODIFIED:20260324T124609Z
UID:10021003-1774346400-1774353600@worksourceskc.org
SUMMARY:Mock Interview Practices (In-person)
DESCRIPTION:Going into an interview can be a little scary\, until now! \n  \nWorkSource is hosting a new workshop to help individuals gain the skills and tools for successful interviews\, answer questions\, and build your confidence! \n  \nThis will be fun and informative. Be sure to join us!  \n  \nSign up for this workshop at: www.worksourcewa.com \nSearch Workshops for: \n“Mock Interview Practice” \n 
URL:https://worksourceskc.org/event/mock-interview-practices-in-person-10/
CATEGORIES:North Seattle
END:VEVENT
BEGIN:VEVENT
DTSTART;TZID=America/Los_Angeles:20260324T100000
DTEND;TZID=America/Los_Angeles:20260324T120000
DTSTAMP:20260421T112937
CREATED:20260316T231012Z
LAST-MODIFIED:20260324T185056Z
UID:10021012-1774346400-1774353600@worksourceskc.org
SUMMARY:Mock Interview Practices (In-person)
DESCRIPTION:Going into an interview can be a little scary\, until now! \n  \nWorkSource is hosting a new workshop to help individuals gain the skills and tools for successful interviews\, answer questions\, and build your confidence! \n  \nThis will be fun and informative. Be sure to join us!  \n  \nSign up for this workshop at: www.worksourcewa.com \nSearch Workshops for: \n“Mock Interview Practice” \n 
URL:https://worksourceskc.org/event/mock-interview-practices-in-person-11/
CATEGORIES:North Seattle
END:VEVENT
BEGIN:VEVENT
DTSTART;TZID=America/Los_Angeles:20260324T110000
DTEND;TZID=America/Los_Angeles:20260324T130000
DTSTAMP:20260421T112937
CREATED:20260223T040631Z
LAST-MODIFIED:20260223T214944Z
UID:10020371-1774350000-1774357200@worksourceskc.org
SUMMARY:*(In-Person)* WorkFirst Job Search Orientation (Requires DSHS Referral)
DESCRIPTION:IMPORTANT! Registration for this appointment requires a referral from the Department of Social and Health Services. If you are currently not a DSHS customer and would like to meet with a career coach or learn more about our WorkSource services\, please contact us at 509-532-3120.
URL:https://worksourceskc.org/event/in-person-workfirst-job-search-orientation-requires-dshs-referral-3688/
CATEGORIES:Virtual Online Events
END:VEVENT
BEGIN:VEVENT
DTSTART;TZID=America/Los_Angeles:20260324T123000
DTEND;TZID=America/Los_Angeles:20260324T160000
DTSTAMP:20260421T112937
CREATED:20260223T040634Z
LAST-MODIFIED:20260324T224912Z
UID:10020372-1774355400-1774368000@worksourceskc.org
SUMMARY:Digital Literacy Learning Lab
DESCRIPTION:Our self-paced digital literacy learning lab is a welcoming and supportive space for people of all ages and skill levels to learn the basics of computer and internet use. Our curriculum covers a wide range of topics\, from basic computer skills like using a mouse and keyboard to more advanced topics like using email\, word processing\, and spreadsheets. You can learn at your own pace and on your own schedule. Staff are available to help you if you get stuck. Whether you're new to computers or you just want to brush up on your skills\, our self-paced digital literacy learning lab is the perfect place for you. \nBenefits of taking self-paced digital literacy learning modules \n\nLearn at your own pace and on your own schedule	\nGet personalized help from friendly staff	\nAccess a variety of resources\, including online tutorials\, books\, and practice exercises	\nLearn the skills you need to use computers and the internet effectively in your daily life\, work\, and education\n\nWho can benefit from taking self-paced digital literacy learning modules? \n\nAnyone who is new to computers or wants to brush up on their skills	\nStudents who need to learn computer skills for school or college	\nAdults who need to learn computer skills for work or job hunting	\nSeniors who want to learn how to use computers and the internet to stay connected with family and friends\n\nHow to get started:To get started\, simply visit our self-paced digital literacy learning lab during our open hours. The instructor will assist you with getting set up within our learning management system. You can then start learning at your own pace and on your own schedule. \nNot sure what modules to start with? Take our Digital Skills Placement Assessment. \nOr visit this link to register: WorkSource Spokane Learning Center Registration \nWe look forward to helping you learn the digital skills you need to succeed!
URL:https://worksourceskc.org/event/digital-literacy-learning-lab-6996/
CATEGORIES:Virtual Online Events
END:VEVENT
BEGIN:VEVENT
DTSTART;TZID=America/Los_Angeles:20260324T130000
DTEND;TZID=America/Los_Angeles:20260324T150000
DTSTAMP:20260421T112937
CREATED:20260223T040638Z
LAST-MODIFIED:20260303T231621Z
UID:10020373-1774357200-1774364400@worksourceskc.org
SUMMARY:CANCELLED - *(In-Person) * WorkFirst Job Search Orientation (Requires DSHS Referral)
DESCRIPTION:IMPORTANT! Registration for this appointment requires a referral from the Department of Social and Health Services. If you are currently not a DSHS customer and would like to meet with a career coach or learn more about our WorkSource services\, please contact us at 509-532-3120.
URL:https://worksourceskc.org/event/cancelled-in-person-workfirst-job-search-orientation-requires-dshs-referral-550/
CATEGORIES:Virtual Online Events
END:VEVENT
BEGIN:VEVENT
DTSTART;TZID=America/Los_Angeles:20260324T130000
DTEND;TZID=America/Los_Angeles:20260324T150000
DTSTAMP:20260421T112937
CREATED:20260223T040639Z
LAST-MODIFIED:20260223T214946Z
UID:10020374-1774357200-1774364400@worksourceskc.org
SUMMARY:CANCELLED - *(In-Person) * WorkFirst Job Search Orientation (Requires DSHS Referral)
DESCRIPTION:IMPORTANT! Registration for this appointment requires a referral from the Department of Social and Health Services. If you are currently not a DSHS customer and would like to meet with a career coach or learn more about our WorkSource services\, please contact us at 509-532-3120.
URL:https://worksourceskc.org/event/cancelled-in-person-workfirst-job-search-orientation-requires-dshs-referral-551/
CATEGORIES:Virtual Online Events
END:VEVENT
END:VCALENDAR