BEGIN:VCALENDAR
VERSION:2.0
PRODID:-//WorkSource Seattle-King County - ECPv6.6.4.2//NONSGML v1.0//EN
CALSCALE:GREGORIAN
METHOD:PUBLISH
X-WR-CALNAME:WorkSource Seattle-King County
X-ORIGINAL-URL:https://worksourceskc.org
X-WR-CALDESC:Events for WorkSource Seattle-King County
REFRESH-INTERVAL;VALUE=DURATION:PT1H
X-Robots-Tag:noindex
X-PUBLISHED-TTL:PT1H
BEGIN:VTIMEZONE
TZID:America/Los_Angeles
BEGIN:DAYLIGHT
TZOFFSETFROM:-0800
TZOFFSETTO:-0700
TZNAME:PDT
DTSTART:20260308T100000
END:DAYLIGHT
BEGIN:STANDARD
TZOFFSETFROM:-0700
TZOFFSETTO:-0800
TZNAME:PST
DTSTART:20261101T090000
END:STANDARD
END:VTIMEZONE
BEGIN:VEVENT
DTSTART;TZID=America/Los_Angeles:20260327T000000
DTEND;TZID=America/Los_Angeles:20260328T000000
DTSTAMP:20260422T062311
CREATED:20260227T145825Z
LAST-MODIFIED:20260327T234513Z
UID:10020577-1774569600-1774656000@worksourceskc.org
SUMMARY:Overcoming Ageism
DESCRIPTION:📌 OverviewOvercoming Ageism is a self-paced workshop series designed to help experienced job seekers navigate bias\, reframe their strengths\, and show up with confidence in today’s hiring landscape. Through a blend of storytelling\, humor\, and practical strategy\, participants learn how to position age as a strategic advantage—not a liability. The module includes both full-length sessions and shorter\, focused videos featuring Alan and Ada—AI voices crafted to guide learners through resume reframes\, interview prep\, and mindset shifts.💼 What You’ll LearnHow to identify and counter common age-related stereotypes in hiringResume and interview strategies that highlight relevance and valueTechniques for reframing experience as a strength\, not a costHow to use AI tools to support—not replace—your job searchWays to build a personal brand that reflects energy\, adaptability\, and impact🧭 Who It’s ForThis module is designed for experienced job seekers\, especially those re-entering the workforce\, pivoting careers\, or facing age-related bias in hiring. It’s also a powerful resource for workforce professionals\, career coaches\, and anyone interested in reframing age as an asset.🚀 Getting StartedTo register\, click here: https://forms.spokaneworkforce.org/233415886991066. Registration may take up to 3 business days. Once processed\, you’ll receive login details and instructions via email. Modules are mobile-friendly\, free to access\, and available on your schedule.
URL:https://worksourceskc.org/event/overcoming-ageism-2823/
CATEGORIES:Virtual Online Events
END:VEVENT
BEGIN:VEVENT
DTSTART;TZID=America/Los_Angeles:20260327T080000
DTEND;TZID=America/Los_Angeles:20260327T170000
DTSTAMP:20260422T062311
CREATED:20260316T231117Z
LAST-MODIFIED:20260316T231117Z
UID:10021027-1774598400-1774630800@worksourceskc.org
SUMMARY:In Person UI Assistance
DESCRIPTION:
URL:https://worksourceskc.org/event/in-person-ui-assistance-846/
CATEGORIES:WorkSource Rainier
END:VEVENT
BEGIN:VEVENT
DTSTART;TZID=America/Los_Angeles:20260327T080000
DTEND;TZID=America/Los_Angeles:20260327T170000
DTSTAMP:20260422T062311
CREATED:20260316T231217Z
LAST-MODIFIED:20260316T231217Z
UID:10021034-1774598400-1774630800@worksourceskc.org
SUMMARY:In Person UI Assistance
DESCRIPTION:
URL:https://worksourceskc.org/event/in-person-ui-assistance-847/
CATEGORIES:WorkSource Rainier
END:VEVENT
BEGIN:VEVENT
DTSTART;TZID=America/Los_Angeles:20260327T080000
DTEND;TZID=America/Los_Angeles:20260327T170000
DTSTAMP:20260422T062311
CREATED:20260316T231238Z
LAST-MODIFIED:20260316T231238Z
UID:10021039-1774598400-1774630800@worksourceskc.org
SUMMARY:In Person UI Assistance
DESCRIPTION:
URL:https://worksourceskc.org/event/in-person-ui-assistance-848/
CATEGORIES:WorkSource Rainier
END:VEVENT
BEGIN:VEVENT
DTSTART;TZID=America/Los_Angeles:20260327T080000
DTEND;TZID=America/Los_Angeles:20260327T170000
DTSTAMP:20260422T062311
CREATED:20260316T231256Z
LAST-MODIFIED:20260327T234702Z
UID:10021044-1774598400-1774630800@worksourceskc.org
SUMMARY:In Person UI Assistance
DESCRIPTION:
URL:https://worksourceskc.org/event/in-person-ui-assistance-849/
CATEGORIES:WorkSource Rainier
END:VEVENT
BEGIN:VEVENT
DTSTART;TZID=America/Los_Angeles:20260327T083000
DTEND;TZID=America/Los_Angeles:20260327T153000
DTSTAMP:20260422T062311
CREATED:20260325T184715Z
LAST-MODIFIED:20260325T184819Z
UID:10021523-1774600200-1774625400@worksourceskc.org
SUMMARY:Women's Career Summit
DESCRIPTION:Dress for Success Seattle’s inaugural summit for women and non-binary professionals. Workshops\, panels\, and networking with industry leaders.
URL:https://worksourceskc.org/event/womens-career-summit/
CATEGORIES:Downtown Seattle,Hiring Events and Job Fairs,North Seattle,South Seattle,South Seattle Community College,Staff Networking,Workshops,WorkSource Auburn,WorkSource Rainier
END:VEVENT
BEGIN:VEVENT
DTSTART;TZID=America/Los_Angeles:20260327T093000
DTEND;TZID=America/Los_Angeles:20260327T110000
DTSTAMP:20260422T062311
CREATED:20260325T085623Z
LAST-MODIFIED:20260327T174849Z
UID:10021398-1774603800-1774609200@worksourceskc.org
SUMMARY:Effective Résumés and Cover Letters - Virtual & In-Person
DESCRIPTION:Successful job seekers take the time to learn what employers want. Learn how two of the four primary pieces of job-search-related communication convey to a prospective employer who you are\, what you know and what you have to offer. Learn which résumé and cover letter formats best display your skills\, knowledge and abilities in order to attract employers and lead to more interviews! \nPlease go to WorkSourceWA.com and create your account prior to attending this workshop.When you sign up for this event\, please use the same name and email address that you use with your worksourcewa.com account. \nThis workshop will take place in-person at WorkSource Spokane\, but you can join virtually here. \nPrior to joining this workshop\, please ensure you have created and activated your WorksourceWA (WSWA) Account. \nHere is a video walking you through account creation and activation: WorkSource Account Creation Video
URL:https://worksourceskc.org/event/effective-rsums-and-cover-letters-virtual-in-person-877/
CATEGORIES:Virtual Online Events
END:VEVENT
BEGIN:VEVENT
DTSTART;TZID=America/Los_Angeles:20260327T100000
DTEND;TZID=America/Los_Angeles:20260327T120000
DTSTAMP:20260422T062311
CREATED:20260227T145604Z
LAST-MODIFIED:20260227T145604Z
UID:10020552-1774605600-1774612800@worksourceskc.org
SUMMARY:Computer & Internet Basics (Week 1\, Part 2): Basic Computer Skills
DESCRIPTION:Hands on experience using a computer mouse and keyboard for typing and controlling your computer. Utilizing NorthStar\, Mousercise\, Typing.com\, and GCF Learning.
URL:https://worksourceskc.org/event/computer-internet-basics-week-1-part-2-basic-computer-skills-1465/
CATEGORIES:WorkSource Auburn
END:VEVENT
BEGIN:VEVENT
DTSTART;TZID=America/Los_Angeles:20260327T100000
DTEND;TZID=America/Los_Angeles:20260327T120000
DTSTAMP:20260422T062311
CREATED:20260227T145917Z
LAST-MODIFIED:20260227T145917Z
UID:10020588-1774605600-1774612800@worksourceskc.org
SUMMARY:Computer & Internet Basics (Week 1\, Part 2): Basic Computer Skills
DESCRIPTION:Hands on experience using a computer mouse and keyboard for typing and controlling your computer. Utilizing NorthStar\, Mousercise\, Typing.com\, and GCF Learning.
URL:https://worksourceskc.org/event/computer-internet-basics-week-1-part-2-basic-computer-skills-1466/
CATEGORIES:WorkSource Auburn
END:VEVENT
BEGIN:VEVENT
DTSTART;TZID=America/Los_Angeles:20260327T100000
DTEND;TZID=America/Los_Angeles:20260327T120000
DTSTAMP:20260422T062311
CREATED:20260227T145956Z
LAST-MODIFIED:20260327T174818Z
UID:10020597-1774605600-1774612800@worksourceskc.org
SUMMARY:Computer & Internet Basics (Week 1\, Part 2): Basic Computer Skills
DESCRIPTION:Hands on experience using a computer mouse and keyboard for typing and controlling your computer. Utilizing NorthStar\, Mousercise\, Typing.com\, and GCF Learning.
URL:https://worksourceskc.org/event/computer-internet-basics-week-1-part-2-basic-computer-skills-1467/
CATEGORIES:WorkSource Auburn
END:VEVENT
BEGIN:VEVENT
DTSTART;TZID=America/Los_Angeles:20260327T100000
DTEND;TZID=America/Los_Angeles:20260327T120000
DTSTAMP:20260422T062311
CREATED:20260316T231118Z
LAST-MODIFIED:20260316T231118Z
UID:10021028-1774605600-1774612800@worksourceskc.org
SUMMARY:Seen & Hired: Navigating Modern Hiring with Video Résumés
DESCRIPTION:*Week 1 – Starting 27 March 2026. This interactive workshop marks the start of a comprehensive 4-week certification series designed to equip participants with the 6 essential soft skills needed to succeed in today’s workforce regardless of industry or experience level. Throughout the program\, participants will: Develop the six fundamental soft skills employers value most\, strengthen interview and professional communication skills\, learn how to confidently present themselves on video\, Receive guided instruction on how to apply for opportunities through Ceeminglys job board. This course is hands-on\, practical\, and designed to build confidence while developing real world career readiness skills. All materials are provided. https://luma.com/cjt1rqwk
URL:https://worksourceskc.org/event/seen-hired-navigating-modern-hiring-with-video-rsums-362/
CATEGORIES:WorkSource Rainier
END:VEVENT
BEGIN:VEVENT
DTSTART;TZID=America/Los_Angeles:20260327T100000
DTEND;TZID=America/Los_Angeles:20260327T120000
DTSTAMP:20260422T062311
CREATED:20260316T231219Z
LAST-MODIFIED:20260316T231219Z
UID:10021035-1774605600-1774612800@worksourceskc.org
SUMMARY:Seen & Hired: Navigating Modern Hiring with Video Résumés
DESCRIPTION:*Week 1 – Starting 27 March 2026. This interactive workshop marks the start of a comprehensive 4-week certification series designed to equip participants with the 6 essential soft skills needed to succeed in today’s workforce regardless of industry or experience level. Throughout the program\, participants will: Develop the six fundamental soft skills employers value most\, strengthen interview and professional communication skills\, learn how to confidently present themselves on video\, Receive guided instruction on how to apply for opportunities through Ceeminglys job board. This course is hands-on\, practical\, and designed to build confidence while developing real world career readiness skills. All materials are provided. https://luma.com/cjt1rqwk
URL:https://worksourceskc.org/event/seen-hired-navigating-modern-hiring-with-video-rsums-363/
CATEGORIES:WorkSource Rainier
END:VEVENT
BEGIN:VEVENT
DTSTART;TZID=America/Los_Angeles:20260327T100000
DTEND;TZID=America/Los_Angeles:20260327T120000
DTSTAMP:20260422T062311
CREATED:20260316T231240Z
LAST-MODIFIED:20260327T174837Z
UID:10021040-1774605600-1774612800@worksourceskc.org
SUMMARY:Seen & Hired: Navigating Modern Hiring with Video Résumés
DESCRIPTION:*Week 1 – Starting 27 March 2026. This interactive workshop marks the start of a comprehensive 4-week certification series designed to equip participants with the 6 essential soft skills needed to succeed in today’s workforce regardless of industry or experience level. Throughout the program\, participants will: Develop the six fundamental soft skills employers value most\, strengthen interview and professional communication skills\, learn how to confidently present themselves on video\, Receive guided instruction on how to apply for opportunities through Ceeminglys job board. This course is hands-on\, practical\, and designed to build confidence while developing real world career readiness skills. All materials are provided. https://luma.com/cjt1rqwk
URL:https://worksourceskc.org/event/seen-hired-navigating-modern-hiring-with-video-rsums-364/
CATEGORIES:WorkSource Rainier
END:VEVENT
BEGIN:VEVENT
DTSTART;TZID=America/Los_Angeles:20260327T100000
DTEND;TZID=America/Los_Angeles:20260327T120000
DTSTAMP:20260422T062311
CREATED:20260325T085553Z
LAST-MODIFIED:20260327T174843Z
UID:10021391-1774605600-1774612800@worksourceskc.org
SUMMARY:Evergreen Public Schools Classified Career Fair
DESCRIPTION:Evergreen Public Schools Recruiting for: \n\nParaeducators	\nBus Drivers	\nSubstitutes	\nPlayground  Monitors	\nAnd More!\n\nESD 112 Fingerprinting Services on-site availabilityTo Pre-Register please email:   evergreenjobfair@evergreenps.orgWalk ins welcome!  View & apply for jobs here \n 
URL:https://worksourceskc.org/event/evergreen-public-schools-classified-career-fair-30/
CATEGORIES:Hiring Events and Job Fairs
END:VEVENT
BEGIN:VEVENT
DTSTART;TZID=America/Los_Angeles:20260327T110000
DTEND;TZID=America/Los_Angeles:20260327T140000
DTSTAMP:20260422T062311
CREATED:20260322T130234Z
LAST-MODIFIED:20260322T130234Z
UID:10021318-1774609200-1774620000@worksourceskc.org
SUMMARY:FLEET & FAMILY HIRING EVENT - EMPLOYER OF THE DAY
DESCRIPTION:Fleet & Family Readiness at Naval Base Kitsap provides quality-of-life programs that meet customer needsin the most effective manner. From dining\, entertainment\, and recreation to childcare\, housing\, and supportservices\, FFR programs serve as a catalyst for maximizing all the Pacific Northwest has to offer. \nHIRE EVENTFriday March 27\, 2026 Time: 11:00am – 2:00pmEvent Held at:WorkSource Kitsap3120 NW Randall WaySilverdale\, WA 98383 \nBring Your ResumeInterview one-on-one with a Hiring ManagerJob offers made same day! \nQuestions\, Contact:businesskitsap@esd.wa.gov  \nInterview on site for vacancies in our Food\,and Beverage Dept.THIS IS A DIRECT HIRE EVENTMULTIPLE VACANCIES PER POSITIONS** Operations Assistant – Part-Time/Full-Time$20.24 – $22.54 / hr.** Cook – Lead$24.18 – $28.21 / hr.** Food Service Worker – Part-Time/Full-Time$18.82 – $21.95 / hr.** Dishwasher – Flexible/Part-Time$ 18.82 – $21.95 / hr.** Cook – Flexible$20.61 – $24.02 / hr.** Recreation Assistant – Seasonal (Apr-Oct)$20.54 – $20.54/ hr** Supervisory Recreation Specialist –Flexible – Seasonal (Apr-Oct)$22.25 – $27.00 / hr.Must be registered on WorkSourcewa.comHow To Register:• Go to www.worksourcewa.com• Click on “Job Seeker”• Create Account• Create Profile
URL:https://worksourceskc.org/event/fleet-family-hiring-event-employer-of-the-day-23/
CATEGORIES:Hiring Events and Job Fairs
END:VEVENT
BEGIN:VEVENT
DTSTART;TZID=America/Los_Angeles:20260327T110000
DTEND;TZID=America/Los_Angeles:20260327T140000
DTSTAMP:20260422T062311
CREATED:20260322T130314Z
LAST-MODIFIED:20260327T194722Z
UID:10021323-1774609200-1774620000@worksourceskc.org
SUMMARY:FLEET & FAMILY HIRING EVENT - EMPLOYER OF THE DAY
DESCRIPTION:Fleet & Family Readiness at Naval Base Kitsap provides quality-of-life programs that meet customer needsin the most effective manner. From dining\, entertainment\, and recreation to childcare\, housing\, and supportservices\, FFR programs serve as a catalyst for maximizing all the Pacific Northwest has to offer. \nHIRE EVENTFriday March 27\, 2026 Time: 11:00am – 2:00pmEvent Held at:WorkSource Kitsap3120 NW Randall WaySilverdale\, WA 98383 \nBring Your ResumeInterview one-on-one with a Hiring ManagerJob offers made same day! \nQuestions\, Contact:businesskitsap@esd.wa.gov  \nInterview on site for vacancies in our Food\,and Beverage Dept.THIS IS A DIRECT HIRE EVENTMULTIPLE VACANCIES PER POSITIONS** Operations Assistant – Part-Time/Full-Time$20.24 – $22.54 / hr.** Cook – Lead$24.18 – $28.21 / hr.** Food Service Worker – Part-Time/Full-Time$18.82 – $21.95 / hr.** Dishwasher – Flexible/Part-Time$ 18.82 – $21.95 / hr.** Cook – Flexible$20.61 – $24.02 / hr.** Recreation Assistant – Seasonal (Apr-Oct)$20.54 – $20.54/ hr** Supervisory Recreation Specialist –Flexible – Seasonal (Apr-Oct)$22.25 – $27.00 / hr.Must be registered on WorkSourcewa.comHow To Register:• Go to www.worksourcewa.com• Click on “Job Seeker”• Create Account• Create Profile
URL:https://worksourceskc.org/event/fleet-family-hiring-event-employer-of-the-day-24/
CATEGORIES:Virtual Online Events
END:VEVENT
BEGIN:VEVENT
DTSTART;TZID=America/Los_Angeles:20260327T130000
DTEND;TZID=America/Los_Angeles:20260327T143000
DTSTAMP:20260422T062311
CREATED:20260227T145644Z
LAST-MODIFIED:20260227T145644Z
UID:10020559-1774616400-1774621800@worksourceskc.org
SUMMARY:Resume Basics (In Person)
DESCRIPTION:Craft Your Story. Customize Your Success.  Your résumé doesn’t need to be complicated to be effective—it just needs to tell the right story. In this workshop\, you’ll learn how to build a clear\, professional résumé from the ground up and make simple\, strategic customizations that help you stand out to employers. \nWhether you’re creating your first résumé or refreshing an old one\, this workshop will give you practical tools you can use immediately. We’ll walk through what hiring managers look for\, how to highlight your strengths\, and how small tweaks can make a big impact. You’ll leave with a better understanding of your own experience\, and the confidence to tailor your résumé for any opportunity. \nIf you’re ready to take the next step in your career with a résumé that truly represents you\, this workshop is the perfect place to start. Reserve your spot and start shaping your success. \n 
URL:https://worksourceskc.org/event/resume-basics-in-person-123/
CATEGORIES:North Seattle
END:VEVENT
BEGIN:VEVENT
DTSTART;TZID=America/Los_Angeles:20260327T130000
DTEND;TZID=America/Los_Angeles:20260327T143000
DTSTAMP:20260422T062311
CREATED:20260227T145920Z
LAST-MODIFIED:20260327T194900Z
UID:10020589-1774616400-1774621800@worksourceskc.org
SUMMARY:Resume Basics (In Person)
DESCRIPTION:Craft Your Story. Customize Your Success.  Your résumé doesn’t need to be complicated to be effective—it just needs to tell the right story. In this workshop\, you’ll learn how to build a clear\, professional résumé from the ground up and make simple\, strategic customizations that help you stand out to employers. \nWhether you’re creating your first résumé or refreshing an old one\, this workshop will give you practical tools you can use immediately. We’ll walk through what hiring managers look for\, how to highlight your strengths\, and how small tweaks can make a big impact. You’ll leave with a better understanding of your own experience\, and the confidence to tailor your résumé for any opportunity. \nIf you’re ready to take the next step in your career with a résumé that truly represents you\, this workshop is the perfect place to start. Reserve your spot and start shaping your success. \n 
URL:https://worksourceskc.org/event/resume-basics-in-person-124/
CATEGORIES:North Seattle
END:VEVENT
BEGIN:VEVENT
DTSTART;TZID=America/Los_Angeles:20260327T140000
DTEND;TZID=America/Los_Angeles:20260327T150000
DTSTAMP:20260422T062311
CREATED:20260227T145645Z
LAST-MODIFIED:20260327T214928Z
UID:10020560-1774620000-1774623600@worksourceskc.org
SUMMARY:Farsi speakers only_Résumé and Cover Letter-رزومی و یا سوانح- ورکشاپ مجازی برای کاریابی- روز پنج شنبه ساعت 1 الی 4 بعد از ظهر
DESCRIPTION:Sign Up \nموفق ترین جویندگان و یا کسانیکه دنبال کار هستن معمولا برای معلومات در مورد کارفرمایان وقت صرف میکنند و در مورد آنهای معلومات کافی بدست میاورند. \nدرین ورکشاپ خواهید آموخت که چگونه دو مورد از چهار بخش اصلی ارتباطات مرتبط با جستجوی کار به کارفرمای آینده نگر منتقل شود تا بداند که شما چه کسی هستید، چه میدانید، \nو چه چیزی برای ارائه دارید.  همچنان شما خواهید آموخت که کدام نمونه های سوانح و یا رزومی بهتر نقاط قوت شما را به منظور جذب کارفرمایان منجر به مصاحبه میکند. \nلست های انتظار برای این ورکشاپ خودکار هستند. اگر شخصی ثبت نام خود را لغو کند، به نفر بعدی در لیست انتظار اطلاع داده میشود. \n(اگر در لست اتنظار هستید و پیام خودکاری مبنی بر دعوت از شما برای ثبت نام دریافت می کنید، نیازی به اقدام دیگری ندارید. مجریان اطلاعات این ورکشاپ را برای شما ارسال میکند). \nتمام اعلانات و یا معلومات راجع به لست انتظار سیستم خودکار تا ساعت 8 صبح روز قبل در مورد ورکشاپ ارسال میشود. اگر تا آنزمان کدام اطلاعیه ای \nدر مورد ورکشاپ که ثبت نام کردید بدست نیاوردید نباید منتظر بمانید و برای ورکشاپ آینده ثبت نام کنید.  . \nدر برخی موارد پیام های که مربی و یا تسهیل کننده ورکشاپ برای شما ارسال میکند ممکن در ایمیل شما در بخش پوشه ناخواسته یا سپم برود که شما باید متوجه باشید. \n هنکام ثبت نام برای این ورکشاپ لطفا از اسم و یا ایمیل که درین سایت میباشد استفاده کیند WORKSOURCEWA.COM \nبرای هر گونه سوال با مربی و یا تسهیل کنند این ورکشاپ میتوانید به تماس شوید.   \nدر صورت که برای شرکت درین ورکشاپ کدام معلولیت دارید لطفا با مربی و یا تسهیل کننده این ورکشاپ به تماس شوید. هنگام تماس لطفا در مورد محل سکونت فعلی تان معلومات بدهید \nو برای اینکه امکانات و تسهیلات به اسرع وقت صورت گیرد در خواست های خویش با تسهیل کننده گان این ورکشاپ در میان بگزارید. \nاگر تسلط محدود به زبان انگلیسی دارید و به اطلاعاتی به زبان غیر از انگلیسی ضرورت دارید میشود آنرا نیز با تسهیل کننده این ورکشاپ در میان بگزارید. \nلنک و اطلاعات این ورکشاپ حد اقل 1 ساعت قبل از شروع برای شما ایمیل میشود \n  \nلطفا در سایت دفتر ورک سورس بروید و اکونت خود را ایجاد نماید. \nPlease go to WorkSourceWA.com and create your account prior to attending this workshop. \nبرای این کنفرانس ویدیویی باید مطمین باشید که از انترنت قابل قبول با ظرفیت بالا استفاده میکند تا در جریان تدریس با مشکل مواجه نشوید \nE
URL:https://worksourceskc.org/event/farsi-speakers-only_rsum-and-cover-letter-1976/
CATEGORIES:North Seattle
END:VEVENT
BEGIN:VEVENT
DTSTART;TZID=America/Los_Angeles:20260327T140000
DTEND;TZID=America/Los_Angeles:20260327T160000
DTSTAMP:20260422T062311
CREATED:20260227T145835Z
LAST-MODIFIED:20260327T214745Z
UID:10020580-1774620000-1774627200@worksourceskc.org
SUMMARY:Your Next Employment Opportunity - Job Club - Virtual
DESCRIPTION:Take advantage of this opportunity to network with other job seekers\, share your victories and your challenges. Each week you will participate in a facilitated group discussion focused on topics related to effectively securing your next job. Part of the conversation will address one of the components of the “Success Mindset”. The Success Mindset will give you an advantage over the competition with similar skills\, knowledge\, and experience. 
URL:https://worksourceskc.org/event/your-next-employment-opportunity-job-club-virtual-1896/
CATEGORIES:Virtual Online Events
END:VEVENT
END:VCALENDAR