BEGIN:VCALENDAR
VERSION:2.0
PRODID:-//WorkSource Seattle-King County - ECPv6.6.4.2//NONSGML v1.0//EN
CALSCALE:GREGORIAN
METHOD:PUBLISH
X-ORIGINAL-URL:https://worksourceskc.org
X-WR-CALDESC:Events for WorkSource Seattle-King County
REFRESH-INTERVAL;VALUE=DURATION:PT1H
X-Robots-Tag:noindex
X-PUBLISHED-TTL:PT1H
BEGIN:VTIMEZONE
TZID:America/Los_Angeles
BEGIN:DAYLIGHT
TZOFFSETFROM:-0800
TZOFFSETTO:-0700
TZNAME:PDT
DTSTART:20250309T100000
END:DAYLIGHT
BEGIN:STANDARD
TZOFFSETFROM:-0700
TZOFFSETTO:-0800
TZNAME:PST
DTSTART:20251102T090000
END:STANDARD
END:VTIMEZONE
BEGIN:VEVENT
DTSTART;TZID=America/Los_Angeles:20250904T110000
DTEND;TZID=America/Los_Angeles:20250904T150000
DTSTAMP:20260421T092735
CREATED:20250814T211504Z
LAST-MODIFIED:20250904T234023Z
UID:10014672-1756983600-1756998000@worksourceskc.org
SUMMARY:Opening Doors to Opportunities: Job & Resource Fair
DESCRIPTION:Looking for a fresh start or your next career move? Join us for the Opening Doors to Opportunities Job & Resource Fair — a welcoming space designed to support all job seekers\, including those impacted by the justice system. \n📅 Thursday\, September 4\, 2025🕚 11:00 AM – 3:00 PM📍 North Seattle College Opportunity Center9600 College Way N\, Seattle\, WA 98103🔗 Register here: https://tinyurl.com/5n7d4xut \n✔️ Connect with employers hiring now✔️ Access support for housing\, health care\, legal aid\, education\, and more✔️ Find pathways to financial stability and wellness \nPre-registration appreciated\, walk-ins welcome.
URL:https://worksourceskc.org/event/opening-doors-to-opportunities-job-resource-fair/
CATEGORIES:Hiring Events and Job Fairs,North Seattle
ATTACH;FMTTYPE=image/png:https://worksourceskc.org/wp-content/uploads/2025/08/social-job-seeker-opening-doors-to-opportunities-07312025-e1755206058231.png
END:VEVENT
END:VCALENDAR