BEGIN:VCALENDAR
VERSION:2.0
PRODID:-//WorkSource Seattle-King County - ECPv6.6.4.2//NONSGML v1.0//EN
CALSCALE:GREGORIAN
METHOD:PUBLISH
X-ORIGINAL-URL:https://worksourceskc.org
X-WR-CALDESC:Events for WorkSource Seattle-King County
REFRESH-INTERVAL;VALUE=DURATION:PT1H
X-Robots-Tag:noindex
X-PUBLISHED-TTL:PT1H
BEGIN:VTIMEZONE
TZID:America/Los_Angeles
BEGIN:DAYLIGHT
TZOFFSETFROM:-0800
TZOFFSETTO:-0700
TZNAME:PDT
DTSTART:20260308T100000
END:DAYLIGHT
BEGIN:STANDARD
TZOFFSETFROM:-0700
TZOFFSETTO:-0800
TZNAME:PST
DTSTART:20261101T090000
END:STANDARD
END:VTIMEZONE
BEGIN:VEVENT
DTSTART;TZID=America/Los_Angeles:20260202T083000
DTEND;TZID=America/Los_Angeles:20260205T113000
DTSTAMP:20260421T043525
CREATED:20260118T203352Z
LAST-MODIFIED:20260202T234329Z
UID:10019016-1770021000-1770291000@worksourceskc.org
SUMMARY:ONLINE Strategies for Success: Communication (N. Seattle)
DESCRIPTION:Class times: 8:30AM-11:30AM (4-day class) \nModule 3: Communication – Communication is a skill that never stops growing! Come learn how to improve your skills and odds of landing that next job! \n\nLearn about interpersonal and business communication and discover your own style	\nDevelop better listening\, writing\, computer and presentation skills	\nFind out about verbal & non-verbal cues\, practice conflict resolution and get tips on emotional control	\nGet tips on how to present yourself the right way on the phone\, in email and on social media.
URL:https://worksourceskc.org/event/online-strategies-for-success-communication-n-seattle-1552/
CATEGORIES:North Seattle
END:VEVENT
BEGIN:VEVENT
DTSTART;TZID=America/Los_Angeles:20260203T100000
DTEND;TZID=America/Los_Angeles:20260203T120000
DTSTAMP:20260421T043525
CREATED:20260113T122731Z
LAST-MODIFIED:20260203T194408Z
UID:10018904-1770112800-1770120000@worksourceskc.org
SUMMARY:Microsoft Word Fundamentals Part 1 (In-Person)
DESCRIPTION:If you are new to Microsoft Word or need a refresher on the newer versions\, this workshop provides a basic understanding of the software. \n\nUser interface overview	\nCreating\, opening\, editing\, saving documents	\nWorking with text\, links\, and lists
URL:https://worksourceskc.org/event/microsoft-word-fundamentals-part-1-in-person-1744/
CATEGORIES:North Seattle
END:VEVENT
BEGIN:VEVENT
DTSTART;TZID=America/Los_Angeles:20260203T140000
DTEND;TZID=America/Los_Angeles:20260203T153000
DTSTAMP:20260421T043525
CREATED:20260131T111805Z
LAST-MODIFIED:20260203T214541Z
UID:10019572-1770127200-1770132600@worksourceskc.org
SUMMARY:Job Fair Preparation
DESCRIPTION:Have you ever wanted to know how to make the most out of your job fair experience? What to say\, what to bring\, what to wear\, what questions to ask? Well now is the time to finally learn those things.  In the workshop we will be discussing best practices and things you can say and do to make an impact at your next Job Fair.  
URL:https://worksourceskc.org/event/job-fair-preparation-703/
CATEGORIES:North Seattle
END:VEVENT
END:VCALENDAR