BEGIN:VCALENDAR
VERSION:2.0
PRODID:-//WorkSource Seattle-King County - ECPv6.6.4.2//NONSGML v1.0//EN
CALSCALE:GREGORIAN
METHOD:PUBLISH
X-WR-CALNAME:WorkSource Seattle-King County
X-ORIGINAL-URL:https://worksourceskc.org
X-WR-CALDESC:Events for WorkSource Seattle-King County
REFRESH-INTERVAL;VALUE=DURATION:PT1H
X-Robots-Tag:noindex
X-PUBLISHED-TTL:PT1H
BEGIN:VTIMEZONE
TZID:America/Los_Angeles
BEGIN:DAYLIGHT
TZOFFSETFROM:-0800
TZOFFSETTO:-0700
TZNAME:PDT
DTSTART:20260308T100000
END:DAYLIGHT
BEGIN:STANDARD
TZOFFSETFROM:-0700
TZOFFSETTO:-0800
TZNAME:PST
DTSTART:20261101T090000
END:STANDARD
END:VTIMEZONE
BEGIN:VEVENT
DTSTART;TZID=America/Los_Angeles:20260202T083000
DTEND;TZID=America/Los_Angeles:20260205T113000
DTSTAMP:20260421T043421
CREATED:20260118T203352Z
LAST-MODIFIED:20260202T234329Z
UID:10019016-1770021000-1770291000@worksourceskc.org
SUMMARY:ONLINE Strategies for Success: Communication (N. Seattle)
DESCRIPTION:Class times: 8:30AM-11:30AM (4-day class) \nModule 3: Communication – Communication is a skill that never stops growing! Come learn how to improve your skills and odds of landing that next job! \n\nLearn about interpersonal and business communication and discover your own style	\nDevelop better listening\, writing\, computer and presentation skills	\nFind out about verbal & non-verbal cues\, practice conflict resolution and get tips on emotional control	\nGet tips on how to present yourself the right way on the phone\, in email and on social media.
URL:https://worksourceskc.org/event/online-strategies-for-success-communication-n-seattle-1552/
CATEGORIES:North Seattle
END:VEVENT
BEGIN:VEVENT
DTSTART;TZID=America/Los_Angeles:20260204T100000
DTEND;TZID=America/Los_Angeles:20260204T110000
DTSTAMP:20260421T043421
CREATED:20260121T233532Z
LAST-MODIFIED:20260204T184248Z
UID:10019228-1770199200-1770202800@worksourceskc.org
SUMMARY:Russian - Russian Speakers only_ОНЛАЙН ОБУЧЕНИЕ ПО ВСЕМУ ШТАТУ – СТРАТЕГИИ ПОИСКА РАБОТЫ / Job Search Strategies
DESCRIPTION:Знание работодателей в вашем регионе и разработка стратегии для поиска работы – это ключ к успеху. В классе Стратегии поиска работы вы изучите различные методы поиска работы! Этот класс дает советы о значении информации о рынке труда и знакомит с другими стратегиями\, такими как сетевое взаимодействие\, информационные интервью и использование Интернета для поиска вакансий.
URL:https://worksourceskc.org/event/russian-russian-speakers-only_-1-2403/
CATEGORIES:North Seattle
END:VEVENT
BEGIN:VEVENT
DTSTART;TZID=America/Los_Angeles:20260204T100000
DTEND;TZID=America/Los_Angeles:20260204T110000
DTSTAMP:20260421T043421
CREATED:20260204T211805Z
LAST-MODIFIED:20260204T211805Z
UID:10019923-1770199200-1770202800@worksourceskc.org
SUMMARY:Russian - Russian Speakers only_ОНЛАЙН ОБУЧЕНИЕ ПО ВСЕМУ ШТАТУ – СТРАТЕГИИ ПОИСКА РАБОТЫ / Job Search Strategies
DESCRIPTION:Знание работодателей в вашем регионе и разработка стратегии для поиска работы – это ключ к успеху. В классе Стратегии поиска работы вы изучите различные методы поиска работы! Этот класс дает советы о значении информации о рынке труда и знакомит с другими стратегиями\, такими как сетевое взаимодействие\, информационные интервью и использование Интернета для поиска вакансий.
URL:https://worksourceskc.org/event/russian-russian-speakers-only_-1-2416/
CATEGORIES:North Seattle
END:VEVENT
BEGIN:VEVENT
DTSTART;TZID=America/Los_Angeles:20260204T100000
DTEND;TZID=America/Los_Angeles:20260204T110000
DTSTAMP:20260421T043421
CREATED:20260204T212002Z
LAST-MODIFIED:20260204T212002Z
UID:10019940-1770199200-1770202800@worksourceskc.org
SUMMARY:Russian - Russian Speakers only_ОНЛАЙН ОБУЧЕНИЕ ПО ВСЕМУ ШТАТУ – СТРАТЕГИИ ПОИСКА РАБОТЫ / Job Search Strategies
DESCRIPTION:Знание работодателей в вашем регионе и разработка стратегии для поиска работы – это ключ к успеху. В классе Стратегии поиска работы вы изучите различные методы поиска работы! Этот класс дает советы о значении информации о рынке труда и знакомит с другими стратегиями\, такими как сетевое взаимодействие\, информационные интервью и использование Интернета для поиска вакансий.
URL:https://worksourceskc.org/event/russian-russian-speakers-only_-1-2418/
CATEGORIES:North Seattle
END:VEVENT
BEGIN:VEVENT
DTSTART;TZID=America/Los_Angeles:20260204T100000
DTEND;TZID=America/Los_Angeles:20260204T110000
DTSTAMP:20260421T043421
CREATED:20260204T212046Z
LAST-MODIFIED:20260204T212046Z
UID:10019949-1770199200-1770202800@worksourceskc.org
SUMMARY:Russian - Russian Speakers only_ОНЛАЙН ОБУЧЕНИЕ ПО ВСЕМУ ШТАТУ – СТРАТЕГИИ ПОИСКА РАБОТЫ / Job Search Strategies
DESCRIPTION:Знание работодателей в вашем регионе и разработка стратегии для поиска работы – это ключ к успеху. В классе Стратегии поиска работы вы изучите различные методы поиска работы! Этот класс дает советы о значении информации о рынке труда и знакомит с другими стратегиями\, такими как сетевое взаимодействие\, информационные интервью и использование Интернета для поиска вакансий.
URL:https://worksourceskc.org/event/russian-russian-speakers-only_-1-2419/
CATEGORIES:North Seattle
END:VEVENT
BEGIN:VEVENT
DTSTART;TZID=America/Los_Angeles:20260204T100000
DTEND;TZID=America/Los_Angeles:20260204T110000
DTSTAMP:20260421T043421
CREATED:20260204T212123Z
LAST-MODIFIED:20260204T212123Z
UID:10019958-1770199200-1770202800@worksourceskc.org
SUMMARY:Russian - Russian Speakers only_ОНЛАЙН ОБУЧЕНИЕ ПО ВСЕМУ ШТАТУ – СТРАТЕГИИ ПОИСКА РАБОТЫ / Job Search Strategies
DESCRIPTION:Знание работодателей в вашем регионе и разработка стратегии для поиска работы – это ключ к успеху. В классе Стратегии поиска работы вы изучите различные методы поиска работы! Этот класс дает советы о значении информации о рынке труда и знакомит с другими стратегиями\, такими как сетевое взаимодействие\, информационные интервью и использование Интернета для поиска вакансий.
URL:https://worksourceskc.org/event/russian-russian-speakers-only_-1-2420/
CATEGORIES:North Seattle
END:VEVENT
BEGIN:VEVENT
DTSTART;TZID=America/Los_Angeles:20260204T100000
DTEND;TZID=America/Los_Angeles:20260204T113000
DTSTAMP:20260421T043421
CREATED:20260113T122713Z
LAST-MODIFIED:20260204T184247Z
UID:10018891-1770199200-1770204600@worksourceskc.org
SUMMARY:ESD SEAP -Self Employment Assistance Orientation (Virtual) North Seattle
DESCRIPTION:The Self‐Employment Assistance Program (SEAP) may be a great opportunity if you want to start a business! \n  \nOnce approved\, SEAP is a unique program that enables you to: \n\nReceive entrepreneurial counseling and business coaching through a pre‐approved training provider	\nContinue to collect Unemployment Insurance (UI) benefits while developing your business plans	\nWork on creating your business and waives the weekly work‐search requirement\n\n  \nYou are invited to attend a virtual workshop to explore: \n\nSEAP Program Details	\nEligibility Requirements and Deadlines	\nApproved Training Provider Lists	\nApplication Process	\nYour Responsibilities	\nOther important information\n\n  \n  \n 
URL:https://worksourceskc.org/event/esd-seap-self-employment-assistance-orientation-virtual-north-seattle-2855/
CATEGORIES:North Seattle
END:VEVENT
BEGIN:VEVENT
DTSTART;TZID=America/Los_Angeles:20260204T100000
DTEND;TZID=America/Los_Angeles:20260204T113000
DTSTAMP:20260421T043421
CREATED:20260204T211802Z
LAST-MODIFIED:20260204T211802Z
UID:10019922-1770199200-1770204600@worksourceskc.org
SUMMARY:ESD SEAP -Self Employment Assistance Orientation (Virtual) North Seattle
DESCRIPTION:The Self‐Employment Assistance Program (SEAP) may be a great opportunity if you want to start a business! \n  \nOnce approved\, SEAP is a unique program that enables you to: \n\nReceive entrepreneurial counseling and business coaching through a pre‐approved training provider	\nContinue to collect Unemployment Insurance (UI) benefits while developing your business plans	\nWork on creating your business and waives the weekly work‐search requirement\n\n  \nYou are invited to attend a virtual workshop to explore: \n\nSEAP Program Details	\nEligibility Requirements and Deadlines	\nApproved Training Provider Lists	\nApplication Process	\nYour Responsibilities	\nOther important information\n\n  \n  \n 
URL:https://worksourceskc.org/event/esd-seap-self-employment-assistance-orientation-virtual-north-seattle-2964/
CATEGORIES:North Seattle
END:VEVENT
BEGIN:VEVENT
DTSTART;TZID=America/Los_Angeles:20260204T100000
DTEND;TZID=America/Los_Angeles:20260204T113000
DTSTAMP:20260421T043421
CREATED:20260204T212000Z
LAST-MODIFIED:20260204T212000Z
UID:10019939-1770199200-1770204600@worksourceskc.org
SUMMARY:ESD SEAP -Self Employment Assistance Orientation (Virtual) North Seattle
DESCRIPTION:The Self‐Employment Assistance Program (SEAP) may be a great opportunity if you want to start a business! \n  \nOnce approved\, SEAP is a unique program that enables you to: \n\nReceive entrepreneurial counseling and business coaching through a pre‐approved training provider	\nContinue to collect Unemployment Insurance (UI) benefits while developing your business plans	\nWork on creating your business and waives the weekly work‐search requirement\n\n  \nYou are invited to attend a virtual workshop to explore: \n\nSEAP Program Details	\nEligibility Requirements and Deadlines	\nApproved Training Provider Lists	\nApplication Process	\nYour Responsibilities	\nOther important information\n\n  \n  \n 
URL:https://worksourceskc.org/event/esd-seap-self-employment-assistance-orientation-virtual-north-seattle-2966/
CATEGORIES:North Seattle
END:VEVENT
BEGIN:VEVENT
DTSTART;TZID=America/Los_Angeles:20260204T100000
DTEND;TZID=America/Los_Angeles:20260204T113000
DTSTAMP:20260421T043421
CREATED:20260204T212043Z
LAST-MODIFIED:20260204T212043Z
UID:10019948-1770199200-1770204600@worksourceskc.org
SUMMARY:ESD SEAP -Self Employment Assistance Orientation (Virtual) North Seattle
DESCRIPTION:The Self‐Employment Assistance Program (SEAP) may be a great opportunity if you want to start a business! \n  \nOnce approved\, SEAP is a unique program that enables you to: \n\nReceive entrepreneurial counseling and business coaching through a pre‐approved training provider	\nContinue to collect Unemployment Insurance (UI) benefits while developing your business plans	\nWork on creating your business and waives the weekly work‐search requirement\n\n  \nYou are invited to attend a virtual workshop to explore: \n\nSEAP Program Details	\nEligibility Requirements and Deadlines	\nApproved Training Provider Lists	\nApplication Process	\nYour Responsibilities	\nOther important information\n\n  \n  \n 
URL:https://worksourceskc.org/event/esd-seap-self-employment-assistance-orientation-virtual-north-seattle-2967/
CATEGORIES:North Seattle
END:VEVENT
BEGIN:VEVENT
DTSTART;TZID=America/Los_Angeles:20260204T100000
DTEND;TZID=America/Los_Angeles:20260204T113000
DTSTAMP:20260421T043421
CREATED:20260204T212121Z
LAST-MODIFIED:20260204T212121Z
UID:10019957-1770199200-1770204600@worksourceskc.org
SUMMARY:ESD SEAP -Self Employment Assistance Orientation (Virtual) North Seattle
DESCRIPTION:The Self‐Employment Assistance Program (SEAP) may be a great opportunity if you want to start a business! \n  \nOnce approved\, SEAP is a unique program that enables you to: \n\nReceive entrepreneurial counseling and business coaching through a pre‐approved training provider	\nContinue to collect Unemployment Insurance (UI) benefits while developing your business plans	\nWork on creating your business and waives the weekly work‐search requirement\n\n  \nYou are invited to attend a virtual workshop to explore: \n\nSEAP Program Details	\nEligibility Requirements and Deadlines	\nApproved Training Provider Lists	\nApplication Process	\nYour Responsibilities	\nOther important information\n\n  \n  \n 
URL:https://worksourceskc.org/event/esd-seap-self-employment-assistance-orientation-virtual-north-seattle-2968/
CATEGORIES:North Seattle
END:VEVENT
END:VCALENDAR