BEGIN:VCALENDAR
VERSION:2.0
PRODID:-//WorkSource Seattle-King County - ECPv6.6.4.2//NONSGML v1.0//EN
CALSCALE:GREGORIAN
METHOD:PUBLISH
X-ORIGINAL-URL:https://worksourceskc.org
X-WR-CALDESC:Events for WorkSource Seattle-King County
REFRESH-INTERVAL;VALUE=DURATION:PT1H
X-Robots-Tag:noindex
X-PUBLISHED-TTL:PT1H
BEGIN:VTIMEZONE
TZID:America/Los_Angeles
BEGIN:DAYLIGHT
TZOFFSETFROM:-0800
TZOFFSETTO:-0700
TZNAME:PDT
DTSTART:20260308T100000
END:DAYLIGHT
BEGIN:STANDARD
TZOFFSETFROM:-0700
TZOFFSETTO:-0800
TZNAME:PST
DTSTART:20261101T090000
END:STANDARD
END:VTIMEZONE
BEGIN:VEVENT
DTSTART;TZID=America/Los_Angeles:20260209T083000
DTEND;TZID=America/Los_Angeles:20260212T113000
DTSTAMP:20260421T043524
CREATED:20260113T122633Z
LAST-MODIFIED:20260209T230013Z
UID:10018860-1770625800-1770895800@worksourceskc.org
SUMMARY:ONLINE Strategies for Success: Personal Strength Builders (N. Seattle)
DESCRIPTION:Class times: 8:30AM-11:30AM (4-day class) \nModule 4: Personal strength builders – What makes you shine? Explore the skills it takes for work-place success (and grow the ones you already have)! \n\nLearn how to improve your attitude\, find motivation\, overcome fears\, plan for success\, improve your situation and create great time management skills	\nExplore how to project self-worth\, integrity\, flexibility and adaptability	\nGet hold of your finances by forming good spending habits\, getting rid of bad behaviors and become financially literate.
URL:https://worksourceskc.org/event/online-strategies-for-success-personal-strength-builders-n-seattle-829/
CATEGORIES:North Seattle
END:VEVENT
BEGIN:VEVENT
DTSTART;TZID=America/Los_Angeles:20260209T130000
DTEND;TZID=America/Los_Angeles:20260209T140000
DTSTAMP:20260421T043524
CREATED:20260121T233447Z
LAST-MODIFIED:20260209T205802Z
UID:10019214-1770642000-1770645600@worksourceskc.org
SUMMARY:Job Search Strategies -Spanish speakers only- Estrategias de Busqueda de trabajo- EN LÍNEA - en todo el estado
DESCRIPTION:Este taller te ensenara la estrategia ideal para tu busqueda de trabajo\, los errores a evitar y como crear un esquema para tener una busqueda exitosa e incorporarte al mercado laboral lo mas pronto posible. \nLocation:Reunión en línea via zoom: La información del enlace y de la reunión se compartirá por correo electrónico como mínimo 1 hora antes de que comience el taller en línea.
URL:https://worksourceskc.org/event/job-search-strategies-spanish-speakers-only-estrategias-de-busqueda-de-trabajo-en-lnea-en-todo-el-estado-1005/
CATEGORIES:North Seattle
END:VEVENT
BEGIN:VEVENT
DTSTART;TZID=America/Los_Angeles:20260209T150000
DTEND;TZID=America/Los_Angeles:20260209T160000
DTSTAMP:20260421T043524
CREATED:20260121T233355Z
LAST-MODIFIED:20260209T230018Z
UID:10019209-1770649200-1770652800@worksourceskc.org
SUMMARY:Creole Speakers ONLY - Klas sa se pou moun ki pale Kreol Selman-strateji pou shashe travail/Job Search Strategies
DESCRIPTION:Anrejistre \n Deskripsyon Atelie \nKle pou reisi  le ou ap shashe travayi se pou konnen ki konpani ki ap bay moun travayi ki strateji pou anploye.  Nan klass strateji pou sukse a\, ou gen pou apran n dives metod pou shashe travayi!  Klas sa li ap montre ou fason ke ou ka utilize informasyon ki ap ede ou jouin travayi pi vi. Pa examp\, ki gen ou ka itilize lot metod et strateji tan kou\, moun ou konnen\, interviou informasyonel e pi ki jen pou jouin 80% travail ke yo pa piblie.
URL:https://worksourceskc.org/event/creole-speakers-only-klas-sa-se-pou-moun-ki-pale-kreol-selman-strateji-pou-shashe-travail-job-search-strategies-1868/
CATEGORIES:North Seattle
END:VEVENT
END:VCALENDAR