BEGIN:VCALENDAR
VERSION:2.0
PRODID:-//WorkSource Seattle-King County - ECPv6.6.4.2//NONSGML v1.0//EN
CALSCALE:GREGORIAN
METHOD:PUBLISH
X-WR-CALNAME:WorkSource Seattle-King County
X-ORIGINAL-URL:https://worksourceskc.org
X-WR-CALDESC:Events for WorkSource Seattle-King County
REFRESH-INTERVAL;VALUE=DURATION:PT1H
X-Robots-Tag:noindex
X-PUBLISHED-TTL:PT1H
BEGIN:VTIMEZONE
TZID:America/Los_Angeles
BEGIN:DAYLIGHT
TZOFFSETFROM:-0800
TZOFFSETTO:-0700
TZNAME:PDT
DTSTART:20260308T100000
END:DAYLIGHT
BEGIN:STANDARD
TZOFFSETFROM:-0700
TZOFFSETTO:-0800
TZNAME:PST
DTSTART:20261101T090000
END:STANDARD
END:VTIMEZONE
BEGIN:VEVENT
DTSTART;TZID=America/Los_Angeles:20260209T083000
DTEND;TZID=America/Los_Angeles:20260212T113000
DTSTAMP:20260421T032024
CREATED:20260113T122633Z
LAST-MODIFIED:20260209T230013Z
UID:10018860-1770625800-1770895800@worksourceskc.org
SUMMARY:ONLINE Strategies for Success: Personal Strength Builders (N. Seattle)
DESCRIPTION:Class times: 8:30AM-11:30AM (4-day class) \nModule 4: Personal strength builders – What makes you shine? Explore the skills it takes for work-place success (and grow the ones you already have)! \n\nLearn how to improve your attitude\, find motivation\, overcome fears\, plan for success\, improve your situation and create great time management skills	\nExplore how to project self-worth\, integrity\, flexibility and adaptability	\nGet hold of your finances by forming good spending habits\, getting rid of bad behaviors and become financially literate.
URL:https://worksourceskc.org/event/online-strategies-for-success-personal-strength-builders-n-seattle-829/
CATEGORIES:North Seattle
END:VEVENT
BEGIN:VEVENT
DTSTART;TZID=America/Los_Angeles:20260210T100000
DTEND;TZID=America/Los_Angeles:20260210T120000
DTSTAMP:20260421T032024
CREATED:20260113T122747Z
LAST-MODIFIED:20260207T035205Z
UID:10018915-1770717600-1770724800@worksourceskc.org
SUMMARY:Microsoft Word Fundamentals Part 2 (In-Person)
DESCRIPTION:A continuation of the Microsoft Word refresher for new users or those needing additional tips and tricks. \n\nHeaders\, footers\, page numbers	\nWorking with objects and graphics	\nWorking with styles
URL:https://worksourceskc.org/event/microsoft-word-fundamentals-part-2-in-person-941/
CATEGORIES:North Seattle
END:VEVENT
BEGIN:VEVENT
DTSTART;TZID=America/Los_Angeles:20260210T100000
DTEND;TZID=America/Los_Angeles:20260210T120000
DTSTAMP:20260421T032024
CREATED:20260113T122807Z
LAST-MODIFIED:20260210T195607Z
UID:10018930-1770717600-1770724800@worksourceskc.org
SUMMARY:CANCELLED - Microsoft Word Fundamentals Part 2 (In-Person)
DESCRIPTION:A continuation of the Microsoft Word refresher for new users or those needing additional tips and tricks. \n\nHeaders\, footers\, page numbers	\nWorking with objects and graphics	\nWorking with styles
URL:https://worksourceskc.org/event/microsoft-word-fundamentals-part-2-in-person-942/
CATEGORIES:North Seattle
END:VEVENT
BEGIN:VEVENT
DTSTART;TZID=America/Los_Angeles:20260210T133000
DTEND;TZID=America/Los_Angeles:20260210T160000
DTSTAMP:20260421T032024
CREATED:20260128T175801Z
LAST-MODIFIED:20260207T035206Z
UID:10019322-1770730200-1770739200@worksourceskc.org
SUMMARY:WorkSource North Seattle Career Fair
DESCRIPTION:Registration link- https://forms.office.com/g/QTdgZW38Qi \nThis is a great time and place to talk to Recruiters that will answer your questions and provide tips to help you get hired. Learn about open roles at: ABM- Building MaintenanceEnterprise MobilityExpress Employment ProfessionalsFederal Bureau of Prisons / FDC SeaTacLake Washington School DistrictSecurity Services Northwest Inc.Sound TransitSpherion Staffing & RecruitingUnited States Postal ServiceSeattle Colleges HRSeattle Police Department…and More…
URL:https://worksourceskc.org/event/worksource-north-seattle-career-fair-544/
CATEGORIES:North Seattle
END:VEVENT
BEGIN:VEVENT
DTSTART;TZID=America/Los_Angeles:20260210T133000
DTEND;TZID=America/Los_Angeles:20260210T160000
DTSTAMP:20260421T032024
CREATED:20260128T175852Z
LAST-MODIFIED:20260210T234844Z
UID:10019328-1770730200-1770739200@worksourceskc.org
SUMMARY:WorkSource North Seattle Career Fair
DESCRIPTION:Registration link- https://forms.office.com/g/QTdgZW38Qi \nThis is a great time and place to talk to Recruiters that will answer your questions and provide tips to help you get hired. Learn about open roles at: ABM- Building MaintenanceEnterprise MobilityExpress Employment ProfessionalsFederal Bureau of Prisons / FDC SeaTacLake Washington School DistrictSecurity Services Northwest Inc.Sound TransitSpherion Staffing & RecruitingUnited States Postal ServiceSeattle Colleges HRSeattle Police Department…and More…
URL:https://worksourceskc.org/event/worksource-north-seattle-career-fair-545/
CATEGORIES:North Seattle
END:VEVENT
END:VCALENDAR