BEGIN:VCALENDAR
VERSION:2.0
PRODID:-//WorkSource Seattle-King County - ECPv6.6.4.2//NONSGML v1.0//EN
CALSCALE:GREGORIAN
METHOD:PUBLISH
X-WR-CALNAME:WorkSource Seattle-King County
X-ORIGINAL-URL:https://worksourceskc.org
X-WR-CALDESC:Events for WorkSource Seattle-King County
REFRESH-INTERVAL;VALUE=DURATION:PT1H
X-Robots-Tag:noindex
X-PUBLISHED-TTL:PT1H
BEGIN:VTIMEZONE
TZID:America/Los_Angeles
BEGIN:DAYLIGHT
TZOFFSETFROM:-0800
TZOFFSETTO:-0700
TZNAME:PDT
DTSTART:20260308T100000
END:DAYLIGHT
BEGIN:STANDARD
TZOFFSETFROM:-0700
TZOFFSETTO:-0800
TZNAME:PST
DTSTART:20261101T090000
END:STANDARD
END:VTIMEZONE
BEGIN:VEVENT
DTSTART;TZID=America/Los_Angeles:20260420T083000
DTEND;TZID=America/Los_Angeles:20260423T113000
DTSTAMP:20260421T021257
CREATED:20260322T125922Z
LAST-MODIFIED:20260322T125922Z
UID:10021277-1776673800-1776943800@worksourceskc.org
SUMMARY:ONLINE Strategies for Success: Work Concepts II (N. Seattle)
DESCRIPTION:Class times: 8:30AM-11:30AM (4-day class) \nModule 6: Work concepts II – You found the perfect job; now let us talk about how to land and keep it! \n\nLearn how to multitask and stay motivated	\nExplore your personal leadership and organization skills	\nLearn to evaluate trauma vs. drama and how to manage the unexpected	\nUnderstand cognitive bias and how it impacts every decision we make	\nDevelop a solid vision for a professional future
URL:https://worksourceskc.org/event/online-strategies-for-success-work-concepts-ii-n-seattle-942/
CATEGORIES:North Seattle
END:VEVENT
BEGIN:VEVENT
DTSTART;TZID=America/Los_Angeles:20260420T083000
DTEND;TZID=America/Los_Angeles:20260423T113000
DTSTAMP:20260421T021257
CREATED:20260322T130106Z
LAST-MODIFIED:20260420T225041Z
UID:10021303-1776673800-1776943800@worksourceskc.org
SUMMARY:ONLINE Strategies for Success: Work Concepts II (N. Seattle)
DESCRIPTION:Class times: 8:30AM-11:30AM (4-day class) \nModule 6: Work concepts II – You found the perfect job; now let us talk about how to land and keep it! \n\nLearn how to multitask and stay motivated	\nExplore your personal leadership and organization skills	\nLearn to evaluate trauma vs. drama and how to manage the unexpected	\nUnderstand cognitive bias and how it impacts every decision we make	\nDevelop a solid vision for a professional future
URL:https://worksourceskc.org/event/online-strategies-for-success-work-concepts-ii-n-seattle-944/
CATEGORIES:North Seattle
END:VEVENT
BEGIN:VEVENT
DTSTART;TZID=America/Los_Angeles:20260420T083000
DTEND;TZID=America/Los_Angeles:20260423T113000
DTSTAMP:20260421T021257
CREATED:20260322T130128Z
LAST-MODIFIED:20260420T225041Z
UID:10021309-1776673800-1776943800@worksourceskc.org
SUMMARY:ONLINE Strategies for Success: Work Concepts II (N. Seattle)
DESCRIPTION:Class times: 8:30AM-11:30AM (4-day class) \nModule 6: Work concepts II – You found the perfect job; now let us talk about how to land and keep it! \n\nLearn how to multitask and stay motivated	\nExplore your personal leadership and organization skills	\nLearn to evaluate trauma vs. drama and how to manage the unexpected	\nUnderstand cognitive bias and how it impacts every decision we make	\nDevelop a solid vision for a professional future
URL:https://worksourceskc.org/event/online-strategies-for-success-work-concepts-ii-n-seattle-945/
CATEGORIES:North Seattle
END:VEVENT
BEGIN:VEVENT
DTSTART;TZID=America/Los_Angeles:20260421T100000
DTEND;TZID=America/Los_Angeles:20260421T120000
DTSTAMP:20260421T021257
CREATED:20260323T085855Z
LAST-MODIFIED:20260420T225030Z
UID:10021332-1776765600-1776772800@worksourceskc.org
SUMMARY:Microsoft Excel Fundamentals Part 1 (In-person)
DESCRIPTION:If you are new to Microsoft Excel or need a refresher on the newer versions\, this workshop will provide a basic understanding of the software. \n\nUser interface overview	\nCreating\, opening\, editing\, saving documents	\nWorking with cells and worksheets	\nBasic functions and data manipulation
URL:https://worksourceskc.org/event/microsoft-excel-fundamentals-part-1-in-person-1229/
CATEGORIES:North Seattle
END:VEVENT
BEGIN:VEVENT
DTSTART;TZID=America/Los_Angeles:20260421T100000
DTEND;TZID=America/Los_Angeles:20260421T120000
DTSTAMP:20260421T021257
CREATED:20260323T085857Z
LAST-MODIFIED:20260421T084726Z
UID:10021333-1776765600-1776772800@worksourceskc.org
SUMMARY:Mock Interview Practices (In-person)
DESCRIPTION:Going into an interview can be a little scary\, until now! \n  \nWorkSource is hosting a new workshop to help individuals gain the skills and tools for successful interviews\, answer questions\, and build your confidence! \n  \nThis will be fun and informative. Be sure to join us!  \n  \nSign up for this workshop at: www.worksourcewa.com \nSearch Workshops for: \n“Mock Interview Practice” \n 
URL:https://worksourceskc.org/event/mock-interview-practices-in-person-30/
CATEGORIES:North Seattle
END:VEVENT
BEGIN:VEVENT
DTSTART;TZID=America/Los_Angeles:20260421T100000
DTEND;TZID=America/Los_Angeles:20260421T120000
DTSTAMP:20260421T021257
CREATED:20260323T090051Z
LAST-MODIFIED:20260421T084748Z
UID:10021347-1776765600-1776772800@worksourceskc.org
SUMMARY:Microsoft Excel Fundamentals Part 1 (In-person)
DESCRIPTION:If you are new to Microsoft Excel or need a refresher on the newer versions\, this workshop will provide a basic understanding of the software. \n\nUser interface overview	\nCreating\, opening\, editing\, saving documents	\nWorking with cells and worksheets	\nBasic functions and data manipulation
URL:https://worksourceskc.org/event/microsoft-excel-fundamentals-part-1-in-person-1230/
CATEGORIES:North Seattle
END:VEVENT
BEGIN:VEVENT
DTSTART;TZID=America/Los_Angeles:20260421T130000
DTEND;TZID=America/Los_Angeles:20260421T160000
DTSTAMP:20260421T021257
CREATED:20260413T182732Z
LAST-MODIFIED:20260413T182732Z
UID:10022078-1776776400-1776787200@worksourceskc.org
SUMMARY:CANCELLED - ***CANCELLED***Work for Washington – Job Hunter Virtual Workshop – Statewide
DESCRIPTION:Would you consider service to the people of the State of Washington? Advantages and benefits of working for various state agencies will be discussed. In this workshop you'll learn how agencies use different application processes how to prepare to meet their expectations. Specific tips for applying to state agencies will be provided.
URL:https://worksourceskc.org/event/cancelled-cancelledwork-for-washington-job-hunter-virtual-workshop-statewide-108/
CATEGORIES:North Seattle
END:VEVENT
BEGIN:VEVENT
DTSTART;TZID=America/Los_Angeles:20260421T140000
DTEND;TZID=America/Los_Angeles:20260421T160000
DTSTAMP:20260421T021257
CREATED:20260413T182733Z
LAST-MODIFIED:20260413T182733Z
UID:10022079-1776780000-1776787200@worksourceskc.org
SUMMARY:Digital Skills & Computer Basics - Drop in
DESCRIPTION:Drop-In Computer Lab with Individualized Coaching.
URL:https://worksourceskc.org/event/digital-skills-computer-basics-drop-in-751/
CATEGORIES:North Seattle
END:VEVENT
BEGIN:VEVENT
DTSTART;TZID=America/Los_Angeles:20260421T140000
DTEND;TZID=America/Los_Angeles:20260421T160000
DTSTAMP:20260421T021257
CREATED:20260413T182957Z
LAST-MODIFIED:20260413T182957Z
UID:10022095-1776780000-1776787200@worksourceskc.org
SUMMARY:Digital Skills & Computer Basics - Drop in
DESCRIPTION:Drop-In Computer Lab with Individualized Coaching.
URL:https://worksourceskc.org/event/digital-skills-computer-basics-drop-in-754/
CATEGORIES:North Seattle
END:VEVENT
BEGIN:VEVENT
DTSTART;TZID=America/Los_Angeles:20260421T140000
DTEND;TZID=America/Los_Angeles:20260421T160000
DTSTAMP:20260421T021257
CREATED:20260413T183028Z
LAST-MODIFIED:20260420T225048Z
UID:10022099-1776780000-1776787200@worksourceskc.org
SUMMARY:Digital Skills & Computer Basics - Drop in
DESCRIPTION:Drop-In Computer Lab with Individualized Coaching.
URL:https://worksourceskc.org/event/digital-skills-computer-basics-drop-in-757/
CATEGORIES:North Seattle
END:VEVENT
BEGIN:VEVENT
DTSTART;TZID=America/Los_Angeles:20260421T140000
DTEND;TZID=America/Los_Angeles:20260421T160000
DTSTAMP:20260421T021257
CREATED:20260413T183059Z
LAST-MODIFIED:20260421T084729Z
UID:10022103-1776780000-1776787200@worksourceskc.org
SUMMARY:Digital Skills & Computer Basics - Drop in
DESCRIPTION:Drop-In Computer Lab with Individualized Coaching.
URL:https://worksourceskc.org/event/digital-skills-computer-basics-drop-in-760/
CATEGORIES:North Seattle
END:VEVENT
BEGIN:VEVENT
DTSTART;TZID=America/Los_Angeles:20260422T100000
DTEND;TZID=America/Los_Angeles:20260422T110000
DTSTAMP:20260421T021257
CREATED:20260325T085918Z
LAST-MODIFIED:20260419T154254Z
UID:10021429-1776852000-1776855600@worksourceskc.org
SUMMARY:Russian -Russian speakers only_ ОНЛАЙН ОБУЧЕНИЕ ПО ВСЕМУ ШТАТУ – Совершенствование заявлений на работу /Perfecting Applications
DESCRIPTION:Важной частью любого поиска работы является понимание точки зрения работодателя. На этом семинаре вы узнаете\, как работодатели читают заявления и как лучше подготовиться\, чтобы соответствовать ожиданиям работодателя\, как подготовиться и преподнести свои навыки и умения так\, чтобы привлечь внимание работодателя. По окончании обучения у вас будет универсальное заявление на работу\, которое будет полезно при заполнении различных заявлений на разные работы.
URL:https://worksourceskc.org/event/russian-russian-speakers-only_-1-2824/
CATEGORIES:North Seattle
END:VEVENT
BEGIN:VEVENT
DTSTART;TZID=America/Los_Angeles:20260422T100000
DTEND;TZID=America/Los_Angeles:20260422T110000
DTSTAMP:20260421T021257
CREATED:20260325T090052Z
LAST-MODIFIED:20260421T084732Z
UID:10021453-1776852000-1776855600@worksourceskc.org
SUMMARY:Russian -Russian speakers only_ ОНЛАЙН ОБУЧЕНИЕ ПО ВСЕМУ ШТАТУ – Совершенствование заявлений на работу /Perfecting Applications
DESCRIPTION:Важной частью любого поиска работы является понимание точки зрения работодателя. На этом семинаре вы узнаете\, как работодатели читают заявления и как лучше подготовиться\, чтобы соответствовать ожиданиям работодателя\, как подготовиться и преподнести свои навыки и умения так\, чтобы привлечь внимание работодателя. По окончании обучения у вас будет универсальное заявление на работу\, которое будет полезно при заполнении различных заявлений на разные работы.
URL:https://worksourceskc.org/event/russian-russian-speakers-only_-1-2825/
CATEGORIES:North Seattle
END:VEVENT
BEGIN:VEVENT
DTSTART;TZID=America/Los_Angeles:20260422T100000
DTEND;TZID=America/Los_Angeles:20260422T113000
DTSTAMP:20260421T021257
CREATED:20260325T085917Z
LAST-MODIFIED:20260404T175014Z
UID:10021428-1776852000-1776857400@worksourceskc.org
SUMMARY:Reentry Playbook Workshop (in person)
DESCRIPTION:Tools for Reentry!Join us for a dynamic reentry playbook workshop designed to guide you through the first six months after release. \nDiscover practical tools\, key tips\, build a plan\, and stay grounded during the most crucial phase of returning home. \nAll stages of reentry are welcome.
URL:https://worksourceskc.org/event/reentry-playbook-workshop-in-person-205/
CATEGORIES:North Seattle
END:VEVENT
BEGIN:VEVENT
DTSTART;TZID=America/Los_Angeles:20260422T100000
DTEND;TZID=America/Los_Angeles:20260422T113000
DTSTAMP:20260421T021257
CREATED:20260325T090156Z
LAST-MODIFIED:20260421T084731Z
UID:10021479-1776852000-1776857400@worksourceskc.org
SUMMARY:Reentry Playbook Workshop (in person)
DESCRIPTION:Tools for Reentry!Join us for a dynamic reentry playbook workshop designed to guide you through the first six months after release. \nDiscover practical tools\, key tips\, build a plan\, and stay grounded during the most crucial phase of returning home. \nAll stages of reentry are welcome.
URL:https://worksourceskc.org/event/reentry-playbook-workshop-in-person-206/
CATEGORIES:North Seattle
END:VEVENT
BEGIN:VEVENT
DTSTART;TZID=America/Los_Angeles:20260423T100000
DTEND;TZID=America/Los_Angeles:20260423T150000
DTSTAMP:20260421T021257
CREATED:20260325T230109Z
LAST-MODIFIED:20260325T230111Z
UID:10021525-1776938400-1776956400@worksourceskc.org
SUMMARY:Collaboration For a Cause: Regional Opportunity Fair
DESCRIPTION:
URL:https://worksourceskc.org/event/collaboration-for-a-cause-regional-opportunity-fair/
CATEGORIES:Business Services,Downtown Seattle,Hiring Events and Job Fairs,North Seattle,South Seattle
END:VEVENT
BEGIN:VEVENT
DTSTART;TZID=America/Los_Angeles:20260423T130000
DTEND;TZID=America/Los_Angeles:20260423T140000
DTSTAMP:20260421T021257
CREATED:20260325T085920Z
LAST-MODIFIED:20260325T085920Z
UID:10021430-1776949200-1776952800@worksourceskc.org
SUMMARY:Amharic - ክልል ሰፊ ኦንላይን (Online) ወርክሾፕ የሥራ ፍለጋ ስልቶች /Job Search Strategies
DESCRIPTION:  ክልል ሰፊ ኦንላይን (Online) ወርክሾፕ የሥራ ፍለጋ ስልቶች \n በአካባቢዎ ስላሉ ቀጣሪዎች መፈለግ እና የሥራ ፍለጋዎን የሚያነጣጥር ስትራቴጂ መፍጠር ለስኬት ቁልፍ ነው ፡፡ \nበሥራ ፍለጋ ስትራቴጂዎች ክፍል ውስጥ የተለያዩ የሥራ ፍለጋ ዘዴዎችን ይማራሉ! ይህ ክፍል የሥራ ገበያ መረጃ ዋጋን በተመለከተ ጠቃሚ ምክሮችን ይሰጣል እንዲሁም እንደ አውታረ መረቡ (Networking)፣ የመረጃ ነክ ቃለ መጠይቆች እና የሥራ ክፍት ቦታዎችን ለማግኘት በይነመረብን (Internet) እንደ ሌሎች ስልቶችን ያስተዋውቃል ፡፡ 
URL:https://worksourceskc.org/event/amharic-online-580/
CATEGORIES:North Seattle
END:VEVENT
BEGIN:VEVENT
DTSTART;TZID=America/Los_Angeles:20260423T130000
DTEND;TZID=America/Los_Angeles:20260423T140000
DTSTAMP:20260421T021257
CREATED:20260325T090203Z
LAST-MODIFIED:20260420T225055Z
UID:10021483-1776949200-1776952800@worksourceskc.org
SUMMARY:Amharic - ክልል ሰፊ ኦንላይን (Online) ወርክሾፕ የሥራ ፍለጋ ስልቶች /Job Search Strategies
DESCRIPTION:  ክልል ሰፊ ኦንላይን (Online) ወርክሾፕ የሥራ ፍለጋ ስልቶች \n በአካባቢዎ ስላሉ ቀጣሪዎች መፈለግ እና የሥራ ፍለጋዎን የሚያነጣጥር ስትራቴጂ መፍጠር ለስኬት ቁልፍ ነው ፡፡ \nበሥራ ፍለጋ ስትራቴጂዎች ክፍል ውስጥ የተለያዩ የሥራ ፍለጋ ዘዴዎችን ይማራሉ! ይህ ክፍል የሥራ ገበያ መረጃ ዋጋን በተመለከተ ጠቃሚ ምክሮችን ይሰጣል እንዲሁም እንደ አውታረ መረቡ (Networking)፣ የመረጃ ነክ ቃለ መጠይቆች እና የሥራ ክፍት ቦታዎችን ለማግኘት በይነመረብን (Internet) እንደ ሌሎች ስልቶችን ያስተዋውቃል ፡፡ 
URL:https://worksourceskc.org/event/amharic-online-581/
CATEGORIES:North Seattle
END:VEVENT
BEGIN:VEVENT
DTSTART;TZID=America/Los_Angeles:20260423T130000
DTEND;TZID=America/Los_Angeles:20260423T140000
DTSTAMP:20260421T021257
CREATED:20260325T090247Z
LAST-MODIFIED:20260421T084737Z
UID:10021499-1776949200-1776952800@worksourceskc.org
SUMMARY:Amharic - ክልል ሰፊ ኦንላይን (Online) ወርክሾፕ የሥራ ፍለጋ ስልቶች /Job Search Strategies
DESCRIPTION:  ክልል ሰፊ ኦንላይን (Online) ወርክሾፕ የሥራ ፍለጋ ስልቶች \n በአካባቢዎ ስላሉ ቀጣሪዎች መፈለግ እና የሥራ ፍለጋዎን የሚያነጣጥር ስትራቴጂ መፍጠር ለስኬት ቁልፍ ነው ፡፡ \nበሥራ ፍለጋ ስትራቴጂዎች ክፍል ውስጥ የተለያዩ የሥራ ፍለጋ ዘዴዎችን ይማራሉ! ይህ ክፍል የሥራ ገበያ መረጃ ዋጋን በተመለከተ ጠቃሚ ምክሮችን ይሰጣል እንዲሁም እንደ አውታረ መረቡ (Networking)፣ የመረጃ ነክ ቃለ መጠይቆች እና የሥራ ክፍት ቦታዎችን ለማግኘት በይነመረብን (Internet) እንደ ሌሎች ስልቶችን ያስተዋውቃል ፡፡ 
URL:https://worksourceskc.org/event/amharic-online-582/
CATEGORIES:North Seattle
END:VEVENT
BEGIN:VEVENT
DTSTART;TZID=America/Los_Angeles:20260423T130000
DTEND;TZID=America/Los_Angeles:20260423T150000
DTSTAMP:20260421T021257
CREATED:20260325T085921Z
LAST-MODIFIED:20260421T084738Z
UID:10021431-1776949200-1776956400@worksourceskc.org
SUMMARY:Work Smart Program – Introduction to LinkedIn
DESCRIPTION:Introduction to LinkedIn: This workshop features a discussion of the value of LinkedIn and walks participants through the process of setting up a LinkedIn account and creating a Profile. Best for those who are new to LinkedIn or have an account but have not been actively using it. REQUIREMENTS TO ATTEND: 1. General computer\, internet and email knowledge. 2. Access to their LinkedIn account during the workshop. For those without a current LinkedIn account\, please go to LinkedIn.com and follow the set-up prompts: email\, a new password\, location\, industry\, reason for joining\, etc. prior to the workshop.
URL:https://worksourceskc.org/event/work-smart-program-introduction-to-linkedin-2151/
CATEGORIES:North Seattle
END:VEVENT
BEGIN:VEVENT
DTSTART;TZID=America/Los_Angeles:20260423T130000
DTEND;TZID=America/Los_Angeles:20260423T160000
DTSTAMP:20260421T021257
CREATED:20260325T085923Z
LAST-MODIFIED:20260325T085923Z
UID:10021432-1776949200-1776960000@worksourceskc.org
SUMMARY:Currículum Vítae y Correspondencia - EN LÍNEA - en todo el estado
DESCRIPTION:La gente que ha tenido éxito en el buscar trabajo se ha esforzado para saber lo que buscan los empleadores. Aprenderá cómo dos de las cuatro partes principales de la comunicación relacionada con la búsqueda de trabajo le dicen al empleador quien es usted\, lo que sabe y lo que ofrece. Aprenderá cual formato de currículo funciona mejor en cual situación y cómo preparar la carta de presentación. Puede poner énfasis en sus destrezas y habilidades\, llamar la atención de los empleadores y recibir invitaciones a más entrevistas.
URL:https://worksourceskc.org/event/currculum-vtae-y-correspondencia-en-lnea-en-todo-el-estado-2246/
CATEGORIES:North Seattle
END:VEVENT
BEGIN:VEVENT
DTSTART;TZID=America/Los_Angeles:20260423T130000
DTEND;TZID=America/Los_Angeles:20260423T160000
DTSTAMP:20260421T021257
CREATED:20260325T090118Z
LAST-MODIFIED:20260420T224837Z
UID:10021466-1776949200-1776960000@worksourceskc.org
SUMMARY:Currículum Vítae y Correspondencia - EN LÍNEA - en todo el estado
DESCRIPTION:La gente que ha tenido éxito en el buscar trabajo se ha esforzado para saber lo que buscan los empleadores. Aprenderá cómo dos de las cuatro partes principales de la comunicación relacionada con la búsqueda de trabajo le dicen al empleador quien es usted\, lo que sabe y lo que ofrece. Aprenderá cual formato de currículo funciona mejor en cual situación y cómo preparar la carta de presentación. Puede poner énfasis en sus destrezas y habilidades\, llamar la atención de los empleadores y recibir invitaciones a más entrevistas.
URL:https://worksourceskc.org/event/currculum-vtae-y-correspondencia-en-lnea-en-todo-el-estado-2248/
CATEGORIES:North Seattle
END:VEVENT
BEGIN:VEVENT
DTSTART;TZID=America/Los_Angeles:20260424T140000
DTEND;TZID=America/Los_Angeles:20260424T150000
DTSTAMP:20260421T021257
CREATED:20260326T130743Z
LAST-MODIFIED:20260420T225100Z
UID:10021542-1777039200-1777042800@worksourceskc.org
SUMMARY:Farsi speakers only_Résumé and Cover Letter-رزومی و یا سوانح- ورکشاپ مجازی برای کاریابی- روز پنج شنبه ساعت 1 الی 4 بعد از ظهر
DESCRIPTION:Sign Up \nموفق ترین جویندگان و یا کسانیکه دنبال کار هستن معمولا برای معلومات در مورد کارفرمایان وقت صرف میکنند و در مورد آنهای معلومات کافی بدست میاورند. \nدرین ورکشاپ خواهید آموخت که چگونه دو مورد از چهار بخش اصلی ارتباطات مرتبط با جستجوی کار به کارفرمای آینده نگر منتقل شود تا بداند که شما چه کسی هستید، چه میدانید، \nو چه چیزی برای ارائه دارید.  همچنان شما خواهید آموخت که کدام نمونه های سوانح و یا رزومی بهتر نقاط قوت شما را به منظور جذب کارفرمایان منجر به مصاحبه میکند. \nلست های انتظار برای این ورکشاپ خودکار هستند. اگر شخصی ثبت نام خود را لغو کند، به نفر بعدی در لیست انتظار اطلاع داده میشود. \n(اگر در لست اتنظار هستید و پیام خودکاری مبنی بر دعوت از شما برای ثبت نام دریافت می کنید، نیازی به اقدام دیگری ندارید. مجریان اطلاعات این ورکشاپ را برای شما ارسال میکند). \nتمام اعلانات و یا معلومات راجع به لست انتظار سیستم خودکار تا ساعت 8 صبح روز قبل در مورد ورکشاپ ارسال میشود. اگر تا آنزمان کدام اطلاعیه ای \nدر مورد ورکشاپ که ثبت نام کردید بدست نیاوردید نباید منتظر بمانید و برای ورکشاپ آینده ثبت نام کنید.  . \nدر برخی موارد پیام های که مربی و یا تسهیل کننده ورکشاپ برای شما ارسال میکند ممکن در ایمیل شما در بخش پوشه ناخواسته یا سپم برود که شما باید متوجه باشید. \n هنکام ثبت نام برای این ورکشاپ لطفا از اسم و یا ایمیل که درین سایت میباشد استفاده کیند WORKSOURCEWA.COM \nبرای هر گونه سوال با مربی و یا تسهیل کنند این ورکشاپ میتوانید به تماس شوید.   \nدر صورت که برای شرکت درین ورکشاپ کدام معلولیت دارید لطفا با مربی و یا تسهیل کننده این ورکشاپ به تماس شوید. هنگام تماس لطفا در مورد محل سکونت فعلی تان معلومات بدهید \nو برای اینکه امکانات و تسهیلات به اسرع وقت صورت گیرد در خواست های خویش با تسهیل کننده گان این ورکشاپ در میان بگزارید. \nاگر تسلط محدود به زبان انگلیسی دارید و به اطلاعاتی به زبان غیر از انگلیسی ضرورت دارید میشود آنرا نیز با تسهیل کننده این ورکشاپ در میان بگزارید. \nلنک و اطلاعات این ورکشاپ حد اقل 1 ساعت قبل از شروع برای شما ایمیل میشود \n  \nلطفا در سایت دفتر ورک سورس بروید و اکونت خود را ایجاد نماید. \nPlease go to WorkSourceWA.com and create your account prior to attending this workshop. \nبرای این کنفرانس ویدیویی باید مطمین باشید که از انترنت قابل قبول با ظرفیت بالا استفاده میکند تا در جریان تدریس با مشکل مواجه نشوید \nE
URL:https://worksourceskc.org/event/farsi-speakers-only_rsum-and-cover-letter-2206/
CATEGORIES:North Seattle
END:VEVENT
BEGIN:VEVENT
DTSTART;TZID=America/Los_Angeles:20260424T140000
DTEND;TZID=America/Los_Angeles:20260424T150000
DTSTAMP:20260421T021257
CREATED:20260326T130854Z
LAST-MODIFIED:20260421T084743Z
UID:10021545-1777039200-1777042800@worksourceskc.org
SUMMARY:Farsi speakers only_Résumé and Cover Letter-رزومی و یا سوانح- ورکشاپ مجازی برای کاریابی- روز پنج شنبه ساعت 1 الی 4 بعد از ظهر
DESCRIPTION:Sign Up \nموفق ترین جویندگان و یا کسانیکه دنبال کار هستن معمولا برای معلومات در مورد کارفرمایان وقت صرف میکنند و در مورد آنهای معلومات کافی بدست میاورند. \nدرین ورکشاپ خواهید آموخت که چگونه دو مورد از چهار بخش اصلی ارتباطات مرتبط با جستجوی کار به کارفرمای آینده نگر منتقل شود تا بداند که شما چه کسی هستید، چه میدانید، \nو چه چیزی برای ارائه دارید.  همچنان شما خواهید آموخت که کدام نمونه های سوانح و یا رزومی بهتر نقاط قوت شما را به منظور جذب کارفرمایان منجر به مصاحبه میکند. \nلست های انتظار برای این ورکشاپ خودکار هستند. اگر شخصی ثبت نام خود را لغو کند، به نفر بعدی در لیست انتظار اطلاع داده میشود. \n(اگر در لست اتنظار هستید و پیام خودکاری مبنی بر دعوت از شما برای ثبت نام دریافت می کنید، نیازی به اقدام دیگری ندارید. مجریان اطلاعات این ورکشاپ را برای شما ارسال میکند). \nتمام اعلانات و یا معلومات راجع به لست انتظار سیستم خودکار تا ساعت 8 صبح روز قبل در مورد ورکشاپ ارسال میشود. اگر تا آنزمان کدام اطلاعیه ای \nدر مورد ورکشاپ که ثبت نام کردید بدست نیاوردید نباید منتظر بمانید و برای ورکشاپ آینده ثبت نام کنید.  . \nدر برخی موارد پیام های که مربی و یا تسهیل کننده ورکشاپ برای شما ارسال میکند ممکن در ایمیل شما در بخش پوشه ناخواسته یا سپم برود که شما باید متوجه باشید. \n هنکام ثبت نام برای این ورکشاپ لطفا از اسم و یا ایمیل که درین سایت میباشد استفاده کیند WORKSOURCEWA.COM \nبرای هر گونه سوال با مربی و یا تسهیل کنند این ورکشاپ میتوانید به تماس شوید.   \nدر صورت که برای شرکت درین ورکشاپ کدام معلولیت دارید لطفا با مربی و یا تسهیل کننده این ورکشاپ به تماس شوید. هنگام تماس لطفا در مورد محل سکونت فعلی تان معلومات بدهید \nو برای اینکه امکانات و تسهیلات به اسرع وقت صورت گیرد در خواست های خویش با تسهیل کننده گان این ورکشاپ در میان بگزارید. \nاگر تسلط محدود به زبان انگلیسی دارید و به اطلاعاتی به زبان غیر از انگلیسی ضرورت دارید میشود آنرا نیز با تسهیل کننده این ورکشاپ در میان بگزارید. \nلنک و اطلاعات این ورکشاپ حد اقل 1 ساعت قبل از شروع برای شما ایمیل میشود \n  \nلطفا در سایت دفتر ورک سورس بروید و اکونت خود را ایجاد نماید. \nPlease go to WorkSourceWA.com and create your account prior to attending this workshop. \nبرای این کنفرانس ویدیویی باید مطمین باشید که از انترنت قابل قبول با ظرفیت بالا استفاده میکند تا در جریان تدریس با مشکل مواجه نشوید \nE
URL:https://worksourceskc.org/event/farsi-speakers-only_rsum-and-cover-letter-2207/
CATEGORIES:North Seattle
END:VEVENT
BEGIN:VEVENT
DTSTART;TZID=America/Los_Angeles:20260427T083000
DTEND;TZID=America/Los_Angeles:20260430T113000
DTSTAMP:20260421T021257
CREATED:20260329T025059Z
LAST-MODIFIED:20260329T025059Z
UID:10021586-1777278600-1777548600@worksourceskc.org
SUMMARY:ONLINE Strategies for Success: Work Concepts I (N. Seattle)
DESCRIPTION:Class times: 8:30AM-11:30AM (4-day class) \nModule 1: Work concepts I – Every good plan needs a great road map – develop yours here! \n\nDevelop a roadmap to success while discussing self-motivation\, exploring careers and learning what employers really want.	\nLearn how to prepare and apply for jobs\, package yourself like a professional and share your story	\nUnderstand what employers mean when they say customer service\, workplace diversity\, team building and professionalism.
URL:https://worksourceskc.org/event/online-strategies-for-success-work-concepts-i-n-seattle-743/
CATEGORIES:North Seattle
END:VEVENT
BEGIN:VEVENT
DTSTART;TZID=America/Los_Angeles:20260427T083000
DTEND;TZID=America/Los_Angeles:20260430T113000
DTSTAMP:20260421T021257
CREATED:20260329T025301Z
LAST-MODIFIED:20260420T225101Z
UID:10021604-1777278600-1777548600@worksourceskc.org
SUMMARY:ONLINE Strategies for Success: Work Concepts I (N. Seattle)
DESCRIPTION:Class times: 8:30AM-11:30AM (4-day class) \nModule 1: Work concepts I – Every good plan needs a great road map – develop yours here! \n\nDevelop a roadmap to success while discussing self-motivation\, exploring careers and learning what employers really want.	\nLearn how to prepare and apply for jobs\, package yourself like a professional and share your story	\nUnderstand what employers mean when they say customer service\, workplace diversity\, team building and professionalism.
URL:https://worksourceskc.org/event/online-strategies-for-success-work-concepts-i-n-seattle-745/
CATEGORIES:North Seattle
END:VEVENT
BEGIN:VEVENT
DTSTART;TZID=America/Los_Angeles:20260427T083000
DTEND;TZID=America/Los_Angeles:20260430T113000
DTSTAMP:20260421T021257
CREATED:20260329T025323Z
LAST-MODIFIED:20260421T084744Z
UID:10021608-1777278600-1777548600@worksourceskc.org
SUMMARY:ONLINE Strategies for Success: Work Concepts I (N. Seattle)
DESCRIPTION:Class times: 8:30AM-11:30AM (4-day class) \nModule 1: Work concepts I – Every good plan needs a great road map – develop yours here! \n\nDevelop a roadmap to success while discussing self-motivation\, exploring careers and learning what employers really want.	\nLearn how to prepare and apply for jobs\, package yourself like a professional and share your story	\nUnderstand what employers mean when they say customer service\, workplace diversity\, team building and professionalism.
URL:https://worksourceskc.org/event/online-strategies-for-success-work-concepts-i-n-seattle-746/
CATEGORIES:North Seattle
END:VEVENT
BEGIN:VEVENT
DTSTART;TZID=America/Los_Angeles:20260428T100000
DTEND;TZID=America/Los_Angeles:20260428T120000
DTSTAMP:20260421T021257
CREATED:20260330T053715Z
LAST-MODIFIED:20260330T053715Z
UID:10021619-1777370400-1777377600@worksourceskc.org
SUMMARY:Microsoft Excel Fundamentals Part 2 (In-person)
DESCRIPTION:A continuation of the Microsoft Excel refresher for new users or those needing additional tips and tricks. \n\nA deeper dive into Excel formulas\n\n\nCharts\, graphs\, and Pivot tables
URL:https://worksourceskc.org/event/microsoft-excel-fundamentals-part-2-in-person-1218/
CATEGORIES:North Seattle
END:VEVENT
BEGIN:VEVENT
DTSTART;TZID=America/Los_Angeles:20260428T100000
DTEND;TZID=America/Los_Angeles:20260428T120000
DTSTAMP:20260421T021257
CREATED:20260330T053717Z
LAST-MODIFIED:20260330T053717Z
UID:10021620-1777370400-1777377600@worksourceskc.org
SUMMARY:Mock Interview Practices (In-person)
DESCRIPTION:Going into an interview can be a little scary\, until now! \n  \nWorkSource is hosting a new workshop to help individuals gain the skills and tools for successful interviews\, answer questions\, and build your confidence! \n  \nThis will be fun and informative. Be sure to join us!  \n  \nSign up for this workshop at: www.worksourcewa.com \nSearch Workshops for: \n“Mock Interview Practice” \n 
URL:https://worksourceskc.org/event/mock-interview-practices-in-person-40/
CATEGORIES:North Seattle
END:VEVENT
BEGIN:VEVENT
DTSTART;TZID=America/Los_Angeles:20260428T100000
DTEND;TZID=America/Los_Angeles:20260428T120000
DTSTAMP:20260421T021257
CREATED:20260330T053936Z
LAST-MODIFIED:20260421T084847Z
UID:10021635-1777370400-1777377600@worksourceskc.org
SUMMARY:Microsoft Excel Fundamentals Part 2 (In-person)
DESCRIPTION:A continuation of the Microsoft Excel refresher for new users or those needing additional tips and tricks. \n\nA deeper dive into Excel formulas\n\n\nCharts\, graphs\, and Pivot tables
URL:https://worksourceskc.org/event/microsoft-excel-fundamentals-part-2-in-person-1219/
CATEGORIES:North Seattle
END:VEVENT
END:VCALENDAR