BEGIN:VCALENDAR
VERSION:2.0
PRODID:-//WorkSource Seattle-King County - ECPv6.6.4.2//NONSGML v1.0//EN
CALSCALE:GREGORIAN
METHOD:PUBLISH
X-WR-CALNAME:WorkSource Seattle-King County
X-ORIGINAL-URL:https://worksourceskc.org
X-WR-CALDESC:Events for WorkSource Seattle-King County
REFRESH-INTERVAL;VALUE=DURATION:PT1H
X-Robots-Tag:noindex
X-PUBLISHED-TTL:PT1H
BEGIN:VTIMEZONE
TZID:America/Los_Angeles
BEGIN:DAYLIGHT
TZOFFSETFROM:-0800
TZOFFSETTO:-0700
TZNAME:PDT
DTSTART:20250309T100000
END:DAYLIGHT
BEGIN:STANDARD
TZOFFSETFROM:-0700
TZOFFSETTO:-0800
TZNAME:PST
DTSTART:20251102T090000
END:STANDARD
END:VTIMEZONE
BEGIN:VEVENT
DTSTART;TZID=America/Los_Angeles:20250625T090000
DTEND;TZID=America/Los_Angeles:20250625T110000
DTSTAMP:20260419T102448
CREATED:20250612T175452Z
LAST-MODIFIED:20250612T175604Z
UID:10012152-1750842000-1750849200@worksourceskc.org
SUMMARY:State Worker Virtual Layoff Assistance Presentation
DESCRIPTION:Are you a state worker impacted by layoffs? Check out our free layoff assistance session for state workers and contractors on June 25 to help you understand unemployment benefits and reemployment services. \nThe webinar\, part of the state’s rapid response efforts for large layoffs\, are intended to help state workers who were laid off\, facing a furlough or expecting a workforce reduction. The information will help affected workers navigate available unemployment benefits and reemployment resources. \nWebinar topics include:\n•    Unemployment benefits\, how to file and get help.\n•    What to do about health care benefits.\n•    Expanding your job skills through training and educational programs.\n•    Career guidance\, job search assistance\, and other free resources. \nThe webinars are hosted by partners including Employment Security\, WorkSource\, Local Workforce Development Boards\, Washington Health Plan Finder\, Washington State Community & Technical Colleges and the Washington State Labor Council.
URL:https://worksourceskc.org/event/state-worker-virtual-layoff-assistance-presentation/
CATEGORIES:Layoff Support,Virtual Online Events
ATTACH;FMTTYPE=image/jpeg:https://worksourceskc.org/wp-content/uploads/2025/06/1749748118400.jpeg
END:VEVENT
BEGIN:VEVENT
DTSTART;TZID=America/Los_Angeles:20250626T100000
DTEND;TZID=America/Los_Angeles:20250626T120000
DTSTAMP:20260419T102448
CREATED:20250602T184227Z
LAST-MODIFIED:20250702T220155Z
UID:10011719-1750932000-1750939200@worksourceskc.org
SUMMARY:King County Layoff Support Presentation
DESCRIPTION:Navigating job loss can be hard\, but you don’t need to go through it alone. \nWorkSource Seattle-King County hosts monthly virtual presentations for workers recently laid off. These webinars go over unemployment benefits\, WorkSource job search and career planning programs\, local community resources to help you through the job transition\, and more. Register for an upcoming Virtual Layoff Assistance Presentation and get more support.
URL:https://worksourceskc.org/event/king-county-layoff-support-presentation-6/
CATEGORIES:Layoff Support,Virtual Online Events
ATTACH;FMTTYPE=image/jpeg:https://worksourceskc.org/wp-content/uploads/2024/10/img-2471.jpg
END:VEVENT
END:VCALENDAR